BEGIN:VCALENDAR
VERSION:2.0
PRODID:-//Camberwell Sharks - ECPv6.15.20//NONSGML v1.0//EN
CALSCALE:GREGORIAN
METHOD:PUBLISH
X-WR-CALNAME:Camberwell Sharks
X-ORIGINAL-URL:https://camberwellsharks.com.au
X-WR-CALDESC:Events for Camberwell Sharks
REFRESH-INTERVAL;VALUE=DURATION:PT1H
X-Robots-Tag:noindex
X-PUBLISHED-TTL:PT1H
BEGIN:VTIMEZONE
TZID:Australia/Melbourne
BEGIN:STANDARD
TZOFFSETFROM:+1100
TZOFFSETTO:+1000
TZNAME:AEST
DTSTART:20180331T160000
END:STANDARD
BEGIN:DAYLIGHT
TZOFFSETFROM:+1000
TZOFFSETTO:+1100
TZNAME:AEDT
DTSTART:20181006T160000
END:DAYLIGHT
BEGIN:STANDARD
TZOFFSETFROM:+1100
TZOFFSETTO:+1000
TZNAME:AEST
DTSTART:20190406T160000
END:STANDARD
BEGIN:DAYLIGHT
TZOFFSETFROM:+1000
TZOFFSETTO:+1100
TZNAME:AEDT
DTSTART:20191005T160000
END:DAYLIGHT
BEGIN:STANDARD
TZOFFSETFROM:+1100
TZOFFSETTO:+1000
TZNAME:AEST
DTSTART:20200404T160000
END:STANDARD
BEGIN:DAYLIGHT
TZOFFSETFROM:+1000
TZOFFSETTO:+1100
TZNAME:AEDT
DTSTART:20201003T160000
END:DAYLIGHT
END:VTIMEZONE
BEGIN:VEVENT
DTSTART;VALUE=DATE:20191221
DTEND;VALUE=DATE:20191222
DTSTAMP:20260420T220509
CREATED:20181031T235026Z
LAST-MODIFIED:20181031T235026Z
UID:7314-1576886400-1576972799@camberwellsharks.com.au
SUMMARY:School Holidays begin...
DESCRIPTION:
URL:https://camberwellsharks.com.au/event/school-holidays-begin/
LOCATION:VIC
END:VEVENT
BEGIN:VEVENT
DTSTART;TZID=Australia/Melbourne:20191211T173000
DTEND;TZID=Australia/Melbourne:20191211T193000
DTSTAMP:20260420T220509
CREATED:20191104T085104Z
LAST-MODIFIED:20191104T085104Z
UID:8502-1576085400-1576092600@camberwellsharks.com.au
SUMMARY:Girls Summer Program
DESCRIPTION:Register now through Trybooking – https://www.trybooking.com/BGQFT
URL:https://camberwellsharks.com.au/event/girls-summer-program-6/
LOCATION:Cooper Reserve\, Green Street\, Camberwell\, VIC\, Australia
ATTACH;FMTTYPE=image/jpeg:https://camberwellsharks.com.au/wp-content/uploads/2019/11/Girls-Summer-FB-copy.jpg
END:VEVENT
BEGIN:VEVENT
DTSTART;TZID=Australia/Melbourne:20191204T173000
DTEND;TZID=Australia/Melbourne:20191204T193000
DTSTAMP:20260420T220509
CREATED:20191104T085028Z
LAST-MODIFIED:20191104T085028Z
UID:8500-1575480600-1575487800@camberwellsharks.com.au
SUMMARY:Girls Summer Program
DESCRIPTION:Register now through Trybooking – https://www.trybooking.com/BGQFT
URL:https://camberwellsharks.com.au/event/girls-summer-program-5/
LOCATION:Cooper Reserve\, Green Street\, Camberwell\, VIC\, Australia
ATTACH;FMTTYPE=image/jpeg:https://camberwellsharks.com.au/wp-content/uploads/2019/11/Girls-Summer-FB-copy.jpg
END:VEVENT
BEGIN:VEVENT
DTSTART;TZID=Australia/Melbourne:20191127T173000
DTEND;TZID=Australia/Melbourne:20191127T193000
DTSTAMP:20260420T220509
CREATED:20191104T084944Z
LAST-MODIFIED:20191104T084944Z
UID:8498-1574875800-1574883000@camberwellsharks.com.au
SUMMARY:Girls Summer Program
DESCRIPTION:Register now through Trybooking – https://www.trybooking.com/BGQFT
URL:https://camberwellsharks.com.au/event/girls-summer-program-4/
LOCATION:Cooper Reserve\, Green Street\, Camberwell\, VIC\, Australia
ATTACH;FMTTYPE=image/jpeg:https://camberwellsharks.com.au/wp-content/uploads/2019/11/Girls-Summer-FB-copy.jpg
END:VEVENT
BEGIN:VEVENT
DTSTART;TZID=Australia/Melbourne:20191120T173000
DTEND;TZID=Australia/Melbourne:20191120T193000
DTSTAMP:20260420T220509
CREATED:20191104T084849Z
LAST-MODIFIED:20191104T084849Z
UID:8496-1574271000-1574278200@camberwellsharks.com.au
SUMMARY:Girls Summer Program
DESCRIPTION:Register now through Trybooking – https://www.trybooking.com/BGQFT
URL:https://camberwellsharks.com.au/event/girls-summer-program-3/
LOCATION:Cooper Reserve\, Green Street\, Camberwell\, VIC\, Australia
ATTACH;FMTTYPE=image/jpeg:https://camberwellsharks.com.au/wp-content/uploads/2019/11/Girls-Summer-FB-copy.jpg
END:VEVENT
BEGIN:VEVENT
DTSTART;TZID=Australia/Melbourne:20191113T173000
DTEND;TZID=Australia/Melbourne:20191113T193000
DTSTAMP:20260420T220509
CREATED:20191104T084734Z
LAST-MODIFIED:20191104T084734Z
UID:8490-1573666200-1573673400@camberwellsharks.com.au
SUMMARY:Girls Summer Program
DESCRIPTION:Register now through Trybooking – https://www.trybooking.com/BGQFT \n 
URL:https://camberwellsharks.com.au/event/girls-summer-program-2/
LOCATION:Cooper Reserve\, Green Street\, Camberwell\, VIC\, Australia
ATTACH;FMTTYPE=image/jpeg:https://camberwellsharks.com.au/wp-content/uploads/2019/11/Girls-Summer-FB-copy.jpg
END:VEVENT
BEGIN:VEVENT
DTSTART;VALUE=DATE:20191111
DTEND;VALUE=DATE:20191112
DTSTAMP:20260420T220509
CREATED:20191104T072222Z
LAST-MODIFIED:20191104T072222Z
UID:8486-1573430400-1573516799@camberwellsharks.com.au
SUMMARY:2020 Registrations Open
DESCRIPTION:The Countdown is on and the links are coming soon!!!
URL:https://camberwellsharks.com.au/event/2020-registrations-open/
LOCATION:VIC
END:VEVENT
BEGIN:VEVENT
DTSTART;VALUE=DATE:20190908
DTEND;VALUE=DATE:20190909
DTSTAMP:20260420T220509
CREATED:20181114T041059Z
LAST-MODIFIED:20181114T041059Z
UID:7390-1567900800-1567987199@camberwellsharks.com.au
SUMMARY:Presentation Night Season 2019
DESCRIPTION:SAVE THE DATE \nDetails and times to be confirmed
URL:https://camberwellsharks.com.au/event/presentation-night-season-2019/
LOCATION:VIC
END:VEVENT
BEGIN:VEVENT
DTSTART;VALUE=DATE:20190901
DTEND;VALUE=DATE:20190902
DTSTAMP:20260420T220509
CREATED:20181114T040340Z
LAST-MODIFIED:20181114T040340Z
UID:7376-1567296000-1567382399@camberwellsharks.com.au
SUMMARY:Grand Finals - Season 2019
DESCRIPTION:
URL:https://camberwellsharks.com.au/event/grand-finals-season-2019/
LOCATION:VIC
END:VEVENT
BEGIN:VEVENT
DTSTART;VALUE=DATE:20190825
DTEND;VALUE=DATE:20190826
DTSTAMP:20260420T220509
CREATED:20181114T040302Z
LAST-MODIFIED:20181114T040302Z
UID:7374-1566691200-1566777599@camberwellsharks.com.au
SUMMARY:Prelim Finals - Season 2019
DESCRIPTION:
URL:https://camberwellsharks.com.au/event/prelim-finals-season-2019/
LOCATION:VIC
END:VEVENT
BEGIN:VEVENT
DTSTART;VALUE=DATE:20190818
DTEND;VALUE=DATE:20190819
DTSTAMP:20260420T220509
CREATED:20181114T040219Z
LAST-MODIFIED:20181114T040219Z
UID:7372-1566086400-1566172799@camberwellsharks.com.au
SUMMARY:Semi Finals - Season 2019
DESCRIPTION:
URL:https://camberwellsharks.com.au/event/semi-finals-season-2019/
LOCATION:VIC
END:VEVENT
BEGIN:VEVENT
DTSTART;VALUE=DATE:20190811
DTEND;VALUE=DATE:20190812
DTSTAMP:20260420T220509
CREATED:20181114T041010Z
LAST-MODIFIED:20190808T143352Z
UID:7388-1565481600-1565567999@camberwellsharks.com.au
SUMMARY:Monthly Medal Night - August
DESCRIPTION:Two Mighty Saints Players\, Lewis Pierce and Ed Philips\, will be centre stage to congratulate our teams Monthly Medal Winners! \nOur Monthly Medal Night is always a good night to have a drink and dinner with new sharks families and old. \nMimi’s pizza’s\, sausage sandwiches and delicious meals by Mocha Monkey available to cater for all the family \nThis is a great monthly social event with the whole Club!
URL:https://camberwellsharks.com.au/event/monthly-medal-night-august/
LOCATION:VIC
END:VEVENT
BEGIN:VEVENT
DTSTART;VALUE=DATE:20190811
DTEND;VALUE=DATE:20190812
DTSTAMP:20260420T220509
CREATED:20181114T040136Z
LAST-MODIFIED:20181114T040136Z
UID:7370-1565481600-1565567999@camberwellsharks.com.au
SUMMARY:Round 14 - Season 2019
DESCRIPTION:
URL:https://camberwellsharks.com.au/event/round-14-season-2019/
LOCATION:VIC
END:VEVENT
BEGIN:VEVENT
DTSTART;VALUE=DATE:20190804
DTEND;VALUE=DATE:20190805
DTSTAMP:20260420T220509
CREATED:20181114T040056Z
LAST-MODIFIED:20181114T040056Z
UID:7368-1564876800-1564963199@camberwellsharks.com.au
SUMMARY:Round 13 - Season 2019
DESCRIPTION:
URL:https://camberwellsharks.com.au/event/round-13-season-2019/
LOCATION:VIC
END:VEVENT
BEGIN:VEVENT
DTSTART;VALUE=DATE:20190802
DTEND;VALUE=DATE:20190803
DTSTAMP:20260420T220509
CREATED:20181114T041154Z
LAST-MODIFIED:20181114T041154Z
UID:7392-1564704000-1564790399@camberwellsharks.com.au
SUMMARY:Dads Lunch Season 2019
DESCRIPTION:SAVE THE DATE \nDetails and times to be confirmed
URL:https://camberwellsharks.com.au/event/dads-lunch-season-2019/
LOCATION:VIC
END:VEVENT
BEGIN:VEVENT
DTSTART;VALUE=DATE:20190728
DTEND;VALUE=DATE:20190729
DTSTAMP:20260420T220509
CREATED:20181114T040019Z
LAST-MODIFIED:20181114T040019Z
UID:7366-1564272000-1564358399@camberwellsharks.com.au
SUMMARY:Round 12 - Season 2019
DESCRIPTION:
URL:https://camberwellsharks.com.au/event/round-12-season-2019/
LOCATION:VIC
END:VEVENT
BEGIN:VEVENT
DTSTART;VALUE=DATE:20190721
DTEND;VALUE=DATE:20190722
DTSTAMP:20260420T220509
CREATED:20181114T040925Z
LAST-MODIFIED:20181114T040925Z
UID:7386-1563667200-1563753599@camberwellsharks.com.au
SUMMARY:Monthly Medal Night - July
DESCRIPTION:SAVE THE DATE \nDetails and times to be confirmed
URL:https://camberwellsharks.com.au/event/monthly-medal-night-july/
LOCATION:VIC
END:VEVENT
BEGIN:VEVENT
DTSTART;VALUE=DATE:20190721
DTEND;VALUE=DATE:20190722
DTSTAMP:20260420T220509
CREATED:20181114T035945Z
LAST-MODIFIED:20181114T035945Z
UID:7364-1563667200-1563753599@camberwellsharks.com.au
SUMMARY:Round 11 - Season 2019
DESCRIPTION:
URL:https://camberwellsharks.com.au/event/round-11-season-2019/
LOCATION:VIC
END:VEVENT
BEGIN:VEVENT
DTSTART;VALUE=DATE:20190714
DTEND;VALUE=DATE:20190715
DTSTAMP:20260420T220509
CREATED:20181114T035912Z
LAST-MODIFIED:20181114T035912Z
UID:7362-1563062400-1563148799@camberwellsharks.com.au
SUMMARY:Round 10 - Season 2019
DESCRIPTION:
URL:https://camberwellsharks.com.au/event/round-10-season-2019/
LOCATION:VIC
END:VEVENT
BEGIN:VEVENT
DTSTART;VALUE=DATE:20190712
DTEND;VALUE=DATE:20190713
DTSTAMP:20260420T220509
CREATED:20190516T105119Z
LAST-MODIFIED:20190516T105119Z
UID:7958-1562889600-1562975999@camberwellsharks.com.au
SUMMARY:DFS School Holiday Program
DESCRIPTION:FUN FOOTY DAY – SCHOOL HOLIDAY PROGRAM \nA full day of footy fun designed and coordinated by PE Teachers for players born 2007 – 2011 \nClick on this LINK for more information \n 
URL:https://camberwellsharks.com.au/event/dfs-school-holiday-program/
LOCATION:Lynden Park\, Lynden Park\, Camberwell\, VIC\, 3124\, Australia
ATTACH;FMTTYPE=image/jpeg:https://camberwellsharks.com.au/wp-content/uploads/2019/05/Capture.jpg
END:VEVENT
BEGIN:VEVENT
DTSTART;VALUE=DATE:20190629
DTEND;VALUE=DATE:20190715
DTSTAMP:20260420T220509
CREATED:20181114T035835Z
LAST-MODIFIED:20181114T035835Z
UID:7360-1561766400-1563148799@camberwellsharks.com.au
SUMMARY:School Holidays
DESCRIPTION:
URL:https://camberwellsharks.com.au/event/school-holidays-6/
LOCATION:VIC
END:VEVENT
BEGIN:VEVENT
DTSTART;VALUE=DATE:20190623
DTEND;VALUE=DATE:20190624
DTSTAMP:20260420T220509
CREATED:20181114T040838Z
LAST-MODIFIED:20190613T113106Z
UID:7384-1561248000-1561334399@camberwellsharks.com.au
SUMMARY:Monthly Medal Night - June
DESCRIPTION:The mighty Ben McEvoy from Hawthorn will be on stage with Jonathan Brown to congratulate our teams Monthly Medal Winners! \nOur Monthly Medal Night is always a good night to have a drink and dinner with new sharks families and old. \nMimi’s pizza’s\, sausage sandwiches and delicious meals by Mocha Monkey available to cater for all the family \nThis is a great monthly social event with the whole Club!
URL:https://camberwellsharks.com.au/event/monthly-medal-night-june/
LOCATION:VIC
ATTACH;FMTTYPE=image/jpeg:https://camberwellsharks.com.au/wp-content/uploads/2018/11/IMG_3378.jpg
END:VEVENT
BEGIN:VEVENT
DTSTART;VALUE=DATE:20190623
DTEND;VALUE=DATE:20190624
DTSTAMP:20260420T220509
CREATED:20181114T035620Z
LAST-MODIFIED:20181114T035620Z
UID:7358-1561248000-1561334399@camberwellsharks.com.au
SUMMARY:Round 9 - Season 2019
DESCRIPTION:
URL:https://camberwellsharks.com.au/event/round-9-season-2019/
LOCATION:VIC
END:VEVENT
BEGIN:VEVENT
DTSTART;VALUE=DATE:20190616
DTEND;VALUE=DATE:20190617
DTSTAMP:20260420T220509
CREATED:20181114T035548Z
LAST-MODIFIED:20181114T035548Z
UID:7356-1560643200-1560729599@camberwellsharks.com.au
SUMMARY:Round 8 - Season 2019
DESCRIPTION:
URL:https://camberwellsharks.com.au/event/round-8-season-2019/
LOCATION:VIC
END:VEVENT
BEGIN:VEVENT
DTSTART;VALUE=DATE:20190609
DTEND;VALUE=DATE:20190610
DTSTAMP:20260420T220509
CREATED:20181114T035510Z
LAST-MODIFIED:20181114T035510Z
UID:7354-1560038400-1560124799@camberwellsharks.com.au
SUMMARY:Queens Birthday Weekend - No Matches
DESCRIPTION:
URL:https://camberwellsharks.com.au/event/queens-birthday-weekend-no-matches/
LOCATION:VIC
END:VEVENT
BEGIN:VEVENT
DTSTART;VALUE=DATE:20190604
DTEND;VALUE=DATE:20190607
DTSTAMP:20260420T220509
CREATED:20190323T122522Z
LAST-MODIFIED:20190323T122522Z
UID:7686-1559606400-1559865599@camberwellsharks.com.au
SUMMARY:Team and Individual Photos
DESCRIPTION:Team and Individual Photos will be taken this week during your usual Training times. \nMore information to come re purchasing.
URL:https://camberwellsharks.com.au/event/team-and-individual-photos/
LOCATION:VIC
END:VEVENT
BEGIN:VEVENT
DTSTART;VALUE=DATE:20190602
DTEND;VALUE=DATE:20190603
DTSTAMP:20260420T220509
CREATED:20181114T035351Z
LAST-MODIFIED:20181114T035351Z
UID:7352-1559433600-1559519999@camberwellsharks.com.au
SUMMARY:Round 7 - Season 2019
DESCRIPTION:
URL:https://camberwellsharks.com.au/event/round-7-season-2019/
LOCATION:VIC
END:VEVENT
BEGIN:VEVENT
DTSTART;VALUE=DATE:20190526
DTEND;VALUE=DATE:20190527
DTSTAMP:20260420T220509
CREATED:20181114T040756Z
LAST-MODIFIED:20190516T110328Z
UID:7382-1558828800-1558915199@camberwellsharks.com.au
SUMMARY:Monthly Medal Night - May
DESCRIPTION:5:30pm – 8:30pm\nAlways a good night having a drink and dinner with new friends and old friends.  Mimi’s Pizza’s\, Sausage Sandwiches and delicious meals by Mocha Monkey available to cater for all the family! \nAFL and AFLW player will be there to congratulate our teams Monthly Medal Winners! \nThis is a great monthly social event with the whole Club!
URL:https://camberwellsharks.com.au/event/monthly-medal-night-may/
LOCATION:VIC
ATTACH;FMTTYPE=image/jpeg:https://camberwellsharks.com.au/wp-content/uploads/2018/08/IMG_9320.jpg
END:VEVENT
BEGIN:VEVENT
DTSTART;VALUE=DATE:20190526
DTEND;VALUE=DATE:20190527
DTSTAMP:20260420T220509
CREATED:20181114T035319Z
LAST-MODIFIED:20181114T035319Z
UID:7350-1558828800-1558915199@camberwellsharks.com.au
SUMMARY:Round 6 - Season 2019
DESCRIPTION:
URL:https://camberwellsharks.com.au/event/round-6-season-2019/
LOCATION:VIC
END:VEVENT
BEGIN:VEVENT
DTSTART;TZID=Australia/Melbourne:20190525T140000
DTEND;TZID=Australia/Melbourne:20190525T235900
DTSTAMP:20260420T220509
CREATED:20181114T040650Z
LAST-MODIFIED:20190418T004046Z
UID:7380-1558792800-1558828740@camberwellsharks.com.au
SUMMARY:Mum's Bellini and Barefoot Bowls Afternoon
DESCRIPTION:Invite for all Sharks Mums\, grandma’s\, aunts and their girlie friends! \nEnjoy an afternoon with friends and meet new ones. \nTickets are $60 – includes barefoot bowling\, a Bellini cocktail\, canapés and ribbon sandwiches \nBOOK NOW
URL:https://camberwellsharks.com.au/event/parents-night-trivia-night/
LOCATION:MCC Kew Bowling Club\, 397 Barkers Road\, Kew\, Victoria\, Australia
ATTACH;FMTTYPE=image/jpeg:https://camberwellsharks.com.au/wp-content/uploads/2018/11/Belini-barefoot-Image.jpg
END:VEVENT
END:VCALENDAR