BEGIN:VCALENDAR
VERSION:2.0
PRODID:-//Camberwell Sharks - ECPv6.15.20//NONSGML v1.0//EN
CALSCALE:GREGORIAN
METHOD:PUBLISH
X-WR-CALNAME:Camberwell Sharks
X-ORIGINAL-URL:https://camberwellsharks.com.au
X-WR-CALDESC:Events for Camberwell Sharks
REFRESH-INTERVAL;VALUE=DURATION:PT1H
X-Robots-Tag:noindex
X-PUBLISHED-TTL:PT1H
BEGIN:VTIMEZONE
TZID:Australia/Melbourne
BEGIN:STANDARD
TZOFFSETFROM:+1100
TZOFFSETTO:+1000
TZNAME:AEST
DTSTART:20170401T160000
END:STANDARD
BEGIN:DAYLIGHT
TZOFFSETFROM:+1000
TZOFFSETTO:+1100
TZNAME:AEDT
DTSTART:20170930T160000
END:DAYLIGHT
BEGIN:STANDARD
TZOFFSETFROM:+1100
TZOFFSETTO:+1000
TZNAME:AEST
DTSTART:20180331T160000
END:STANDARD
BEGIN:DAYLIGHT
TZOFFSETFROM:+1000
TZOFFSETTO:+1100
TZNAME:AEDT
DTSTART:20181006T160000
END:DAYLIGHT
BEGIN:STANDARD
TZOFFSETFROM:+1100
TZOFFSETTO:+1000
TZNAME:AEST
DTSTART:20190406T160000
END:STANDARD
BEGIN:DAYLIGHT
TZOFFSETFROM:+1000
TZOFFSETTO:+1100
TZNAME:AEDT
DTSTART:20191005T160000
END:DAYLIGHT
END:VTIMEZONE
BEGIN:VEVENT
DTSTART;TZID=Australia/Melbourne:20180812T084500
DTEND;TZID=Australia/Melbourne:20180812T084500
DTSTAMP:20260421T172535
CREATED:20171201T040742Z
LAST-MODIFIED:20171201T040742Z
UID:5371-1534063500-1534063500@camberwellsharks.com.au
SUMMARY:Last Round Home and Away 2018
DESCRIPTION:
URL:https://camberwellsharks.com.au/event/last-round-home-and-away-2018-4/
LOCATION:VIC
END:VEVENT
BEGIN:VEVENT
DTSTART;VALUE=DATE:20180805
DTEND;VALUE=DATE:20180806
DTSTAMP:20260421T172535
CREATED:20180305T003856Z
LAST-MODIFIED:20180305T003856Z
UID:5765-1533427200-1533513599@camberwellsharks.com.au
SUMMARY:Round 14 2018
DESCRIPTION:
URL:https://camberwellsharks.com.au/event/round-14-2018/
LOCATION:VIC
END:VEVENT
BEGIN:VEVENT
DTSTART;TZID=Australia/Melbourne:20180803T123000
DTEND;TZID=Australia/Melbourne:20180803T123000
DTSTAMP:20260421T172535
CREATED:20180604T051956Z
LAST-MODIFIED:20180604T130624Z
UID:6636-1533299400-1533299400@camberwellsharks.com.au
SUMMARY:Dads Lunch 2018
DESCRIPTION:The Dads Lunch is back! \nThis year our Club Legend Jacko will be joined on the panel with special guest Matthew ‘Richo’ Richardson (yes Tigers’ fans\, the one and only Richo) and our own Shark Dad Jonathan Brown (3 x Premiership Player\, Captain of the Big V and media personality). \nThis year the Sharks will be supporting Richo and his Windermere Trek on the Kokoda Trail to End Family Violence https://www.windermere.org.au/news/kokoda-journey. We will be donating $20 from each ticket to the cause. \nWe will have the normal fundraising activities of an auction\, door prizes and table raffles.  If you have anything (eg weekend away at your holiday house) or your business has anything to donate for the auction or prizes\, please contact Kate on info@camberwellsharks.com.au. All donations will go directly to supporting our Footy budget for season 2019. \nNow for the details and remember – tickets are limited to 100. \nDate:  Friday 3rd August 2018 \nTime: 12:30pm until the last person leaves \nWhere: The Kingston Hotel \, 55 Highett Street Richmond \nPrice:  $120 per person (includes lunch\, beer\, wine\, if you really want a soft drink\, and $20 to Richo’s Trek) \nWhen purchasing your ticket\, please include which TEAM TABLE you would like to sit on (this can be found under “Choose an Option” ) \nBOOK NOW and you won’t be disappointed
URL:https://camberwellsharks.com.au/event/dads-lunch-2018/
LOCATION:The Kingston Hotel\, 55 Highett St\, Richmond\, VIC\, 3121\, Australia
ATTACH;FMTTYPE=image/jpeg:https://camberwellsharks.com.au/wp-content/uploads/2018/06/Notice2.jpg
END:VEVENT
BEGIN:VEVENT
DTSTART;VALUE=DATE:20180729
DTEND;VALUE=DATE:20180730
DTSTAMP:20260421T172535
CREATED:20180305T003819Z
LAST-MODIFIED:20180305T003819Z
UID:5763-1532822400-1532908799@camberwellsharks.com.au
SUMMARY:Round 13 2018
DESCRIPTION:
URL:https://camberwellsharks.com.au/event/round-13-2018/
LOCATION:VIC
END:VEVENT
BEGIN:VEVENT
DTSTART;TZID=Australia/Melbourne:20180722T173000
DTEND;TZID=Australia/Melbourne:20180722T173000
DTSTAMP:20260421T172535
CREATED:20180604T021149Z
LAST-MODIFIED:20180604T021149Z
UID:6625-1532280600-1532280600@camberwellsharks.com.au
SUMMARY:Medal Night - July
DESCRIPTION:Every month we have our Monthly Medal Night and this month is set to be a great one! \nJamie McMillan\, North Melbourne FC will be in the spotlight with Jacko asking all the big questions like how Jamie went from local Sharks Junior all the way to running on the field in the big league!  Jamie will stick around to shake hands with the well deserved Monthly Medal winners of each team and of course take time to have some happy snaps with the Sharks Crowd! \nThis is a great social occasion for Sharks Families so come along for some fabulous food by Mocha Monkey & Mimi’s\, a quiet beverage and great company! \nSee you there!
URL:https://camberwellsharks.com.au/event/medal-night-july-2/
LOCATION:Sharks Clubrooms\, Lynden Park\, Lynden St\, Camberwell\, VIC\, 3124\, Australia
ATTACH;FMTTYPE=image/png:https://camberwellsharks.com.au/wp-content/uploads/2017/07/MACMILLAN-Jamie.png
END:VEVENT
BEGIN:VEVENT
DTSTART;VALUE=DATE:20180722
DTEND;VALUE=DATE:20180723
DTSTAMP:20260421T172535
CREATED:20180305T003750Z
LAST-MODIFIED:20180305T003750Z
UID:5761-1532217600-1532303999@camberwellsharks.com.au
SUMMARY:Round 12 2018
DESCRIPTION:
URL:https://camberwellsharks.com.au/event/round-12-2018/
LOCATION:VIC
END:VEVENT
BEGIN:VEVENT
DTSTART;TZID=Australia/Melbourne:20180715T120000
DTEND;TZID=Australia/Melbourne:20180715T180000
DTSTAMP:20260421T172535
CREATED:20180305T003613Z
LAST-MODIFIED:20180305T003613Z
UID:5755-1531656000-1531677600@camberwellsharks.com.au
SUMMARY:Ladies Lunch (TBC)
DESCRIPTION:Why should the men get all the fun! \nKeep the date free – and if you happen to be catching up with a friend for coffee\, don’t forget to invite her along! \nMore details to come closer to the date. \n 
URL:https://camberwellsharks.com.au/event/ladies-lunch-tbc/
LOCATION:VIC
ATTACH;FMTTYPE=image/jpeg:https://camberwellsharks.com.au/wp-content/uploads/2017/07/IMG_4985-e1520210118776.jpg
END:VEVENT
BEGIN:VEVENT
DTSTART;VALUE=DATE:20180715
DTEND;VALUE=DATE:20180716
DTSTAMP:20260421T172535
CREATED:20180305T003722Z
LAST-MODIFIED:20180305T003722Z
UID:5759-1531612800-1531699199@camberwellsharks.com.au
SUMMARY:Round 11 2018
DESCRIPTION:
URL:https://camberwellsharks.com.au/event/round-11-2018/
LOCATION:VIC
END:VEVENT
BEGIN:VEVENT
DTSTART;TZID=Australia/Melbourne:20180704T093000
DTEND;TZID=Australia/Melbourne:20180704T150000
DTSTAMP:20260421T172535
CREATED:20180619T043223Z
LAST-MODIFIED:20180619T043223Z
UID:6827-1530696600-1530716400@camberwellsharks.com.au
SUMMARY:Dom Tyson Academy - Day 2
DESCRIPTION:The Dom Tyson Academy offers development opportunities for talented junior footballers at our club. \nThe Academy will be run by Barry Mitchell (11 Years as an AFL Assistant Coach) and is designed for Sharks players in U12 and up with a high level of skill and fitness and is an invitation only event. \nThis year the Academy will be run over 2 full days of the school holidays at Shark Park with both Dom Tyson and Jamie McMillan attending\, current AFL players and ex Sharks juniors. \nThe days will include plenty of ball work and game sense drills at a high level\, and also 30 minute presentations by each club sponsors as listed below:\n– Back In Motion:  Injury prevention – stretching\, warm up\, warm down \n– Camberwell Sports & Spinal Medicine:  Podiatry – running\, the correct footwear and protecting your feet \n– Vision Personal Training:  Boxing\, strength and conditioning \n– The Simple Lunchbox:  Game day Nutrition \nFor more information on this event\, please contact info@camberwellsharks.com.au \n—————————————————————– \nDom Tyson spent nine years of his junior footy at the Camberwell Sharks Junior Football Club\, before being drafted to GWS Giants in 2011 and has been with Melbourne Demons since 2014. \nThe Academy has been named in his honour and its aim is to offer development opportunities for talented junior footballers at our club.  Players from U12s and above are selected and invited to train with the Academy. Barry Mitchell is assisting in the coaching and development of our players in the Academy.
URL:https://camberwellsharks.com.au/event/dom-tyson-academy-day-2/
LOCATION:Sharks Clubhouse\, Lynden Park\, Lynden Park\, Lynden St\, Camberwell\, VIC\, 3124\, Australia
CATEGORIES:Club
ATTACH;FMTTYPE=image/jpeg:https://camberwellsharks.com.au/wp-content/uploads/2017/04/DomTyson.jpg
END:VEVENT
BEGIN:VEVENT
DTSTART;TZID=Australia/Melbourne:20180702T093000
DTEND;TZID=Australia/Melbourne:20180702T150000
DTSTAMP:20260421T172535
CREATED:20180619T043023Z
LAST-MODIFIED:20180619T043138Z
UID:6813-1530523800-1530543600@camberwellsharks.com.au
SUMMARY:Dom Tyson Academy - Day 1
DESCRIPTION:The Dom Tyson Academy offers development opportunities for talented junior footballers at our club. \nThe Academy will be run by Barry Mitchell (11 Years as an AFL Assistant Coach) and is designed for Sharks players in U12 and up with a high level of skill and fitness and is an invitation only event. \nThis year the Academy will be run over 2 full days of the school holidays at Shark Park with both Dom Tyson and Jamie McMillan attending\, current AFL players and ex Sharks juniors. \nThe days will include plenty of ball work and game sense drills at a high level\, and also 30 minute presentations by each club sponsors as listed below:\n– Back In Motion:  Injury prevention – stretching\, warm up\, warm down \n– Camberwell Sports & Spinal Medicine:  Podiatry – running\, the correct footwear and protecting your feet \n– Vision Personal Training:  Boxing\, strength and conditioning \n– The Simple Lunchbox:  Game day Nutrition \nFor more information on this event\, please contact info@camberwellsharks.com.au \n—————————————————————– \nDom Tyson spent nine years of his junior footy at the Camberwell Sharks Junior Football Club\, before being drafted to GWS Giants in 2011 and has been with Melbourne Demons since 2014. \nThe Academy has been named in his honour and its aim is to offer development opportunities for talented junior footballers at our club.  Players from U12s and above are selected and invited to train with the Academy. Barry Mitchell is assisting in the coaching and development of our players in the Academy.
URL:https://camberwellsharks.com.au/event/dom-tyson-academy-day-1/
LOCATION:Sharks Clubhouse\, Lynden Park\, Lynden Park\, Lynden St\, Camberwell\, VIC\, 3124\, Australia
CATEGORIES:Club
ATTACH;FMTTYPE=image/jpeg:https://camberwellsharks.com.au/wp-content/uploads/2017/04/DomTyson.jpg
END:VEVENT
BEGIN:VEVENT
DTSTART;VALUE=DATE:20180630
DTEND;VALUE=DATE:20180716
DTSTAMP:20260421T172535
CREATED:20180305T040414Z
LAST-MODIFIED:20180305T040414Z
UID:5789-1530316800-1531699199@camberwellsharks.com.au
SUMMARY:School Holidays
DESCRIPTION:
URL:https://camberwellsharks.com.au/event/school-holidays-2/
LOCATION:VIC
END:VEVENT
BEGIN:VEVENT
DTSTART;VALUE=DATE:20180624
DTEND;VALUE=DATE:20180625
DTSTAMP:20260421T172535
CREATED:20180305T003647Z
LAST-MODIFIED:20180305T003647Z
UID:5757-1529798400-1529884799@camberwellsharks.com.au
SUMMARY:Round 10 2018
DESCRIPTION:
URL:https://camberwellsharks.com.au/event/round-10-2018/
LOCATION:VIC
END:VEVENT
BEGIN:VEVENT
DTSTART;TZID=Australia/Melbourne:20180617T173000
DTEND;TZID=Australia/Melbourne:20180617T173000
DTSTAMP:20260421T172535
CREATED:20180413T232032Z
LAST-MODIFIED:20180614T020036Z
UID:6239-1529256600-1529256600@camberwellsharks.com.au
SUMMARY:Medal Night - June
DESCRIPTION:Every month we have our Monthly Medal Night and this month is set to be a great one! \nToby Wooller\, Brisbane Lions FC will be in the spotlight with Jonathan Brown (Shark Dad and ex Brisbane Lions) asking all the big questions like how Toby went from local Sharks Junior all the way to running on the field for Brisbane Lions!  Toby will stick around to shake hands with the well deserved Monthly Medal winners of each team and of course take time to have some happy snaps with the Sharks Crowd! \nThis is a great social occasion for Sharks Families so come along for some fabulous Soups by Mocha Monkey\, Pizzas from Mimi’s\, snags\, a quiet beverage and great company! \nSee you there!
URL:https://camberwellsharks.com.au/event/medal-night-june/
LOCATION:Sharks Clubrooms\, Lynden Park\, Lynden St\, Camberwell\, VIC\, 3124\, Australia
ATTACH;FMTTYPE=image/jpeg:https://camberwellsharks.com.au/wp-content/uploads/2018/04/WOOLLER-Toby-club-photo.jpg
END:VEVENT
BEGIN:VEVENT
DTSTART;VALUE=DATE:20180617
DTEND;VALUE=DATE:20180618
DTSTAMP:20260421T172535
CREATED:20180305T002852Z
LAST-MODIFIED:20180305T002852Z
UID:5753-1529193600-1529279999@camberwellsharks.com.au
SUMMARY:Round 9 2018
DESCRIPTION:
URL:https://camberwellsharks.com.au/event/round-9-2018/
LOCATION:VIC
END:VEVENT
BEGIN:VEVENT
DTSTART;VALUE=DATE:20180610
DTEND;VALUE=DATE:20180611
DTSTAMP:20260421T172535
CREATED:20180604T023741Z
LAST-MODIFIED:20180604T023803Z
UID:6634-1528588800-1528675199@camberwellsharks.com.au
SUMMARY:NO GAMES
DESCRIPTION:
URL:https://camberwellsharks.com.au/event/no-games/
LOCATION:VIC
END:VEVENT
BEGIN:VEVENT
DTSTART;VALUE=DATE:20180609
DTEND;VALUE=DATE:20180610
DTSTAMP:20260421T172535
CREATED:20180604T023648Z
LAST-MODIFIED:20180604T023648Z
UID:6631-1528502400-1528588799@camberwellsharks.com.au
SUMMARY:NO AUSKICK
DESCRIPTION:
URL:https://camberwellsharks.com.au/event/no-auskick/
LOCATION:VIC
END:VEVENT
BEGIN:VEVENT
DTSTART;VALUE=DATE:20180609
DTEND;VALUE=DATE:20180612
DTSTAMP:20260421T172535
CREATED:20180305T040317Z
LAST-MODIFIED:20180305T040317Z
UID:5787-1528502400-1528761599@camberwellsharks.com.au
SUMMARY:June Long Weekend
DESCRIPTION:
URL:https://camberwellsharks.com.au/event/june-long-weekend/
LOCATION:VIC
END:VEVENT
BEGIN:VEVENT
DTSTART;TZID=Australia/Melbourne:20180607T173000
DTEND;TZID=Australia/Melbourne:20180607T190000
DTSTAMP:20260421T172535
CREATED:20180530T094420Z
LAST-MODIFIED:20180530T101130Z
UID:6539-1528392600-1528398000@camberwellsharks.com.au
SUMMARY:Hawthorn VFLW at Girls Footy Session
DESCRIPTION:BRING A FRIEND! \nHawthorn VFLW are so excited about the increase in girls participation here at Sharks that they’re coming along to Shark Park! \nThe fabulous Hawks VFLW girls will attend our Bring a Friend Girls Footy Session so bring your BFF or your best girlie cousin along for a fun session at Shark Park. \nWhere: Lynden Park aka SHARK PARK \nWhen: Thursday June 7 \nTime: 5:30-7:00pm \nCost: Free \nRSVP: Email your friends name\, email and mobile to info@camberwellsharks.com.au. When you arrive\, please sign in at the Clubhouse \nGO SHARKS and GO HAWTHORN VFLW!!! \n 
URL:https://camberwellsharks.com.au/event/hawthorn-vflw-run-girls-footy-session/
LOCATION:Sharks Clubhouse\, Lynden Park\, Lynden Park\, Lynden St\, Camberwell\, VIC\, 3124\, Australia
ATTACH;FMTTYPE=image/jpeg:https://camberwellsharks.com.au/wp-content/uploads/2018/05/VFLW-Hawks.jpg
END:VEVENT
BEGIN:VEVENT
DTSTART;VALUE=DATE:20180603
DTEND;VALUE=DATE:20180604
DTSTAMP:20260421T172535
CREATED:20180305T002714Z
LAST-MODIFIED:20180305T002714Z
UID:5751-1527984000-1528070399@camberwellsharks.com.au
SUMMARY:Round 8 2018
DESCRIPTION:
URL:https://camberwellsharks.com.au/event/round-8-2018/
LOCATION:VIC
END:VEVENT
BEGIN:VEVENT
DTSTART;VALUE=DATE:20180603
DTEND;VALUE=DATE:20180604
DTSTAMP:20260421T172535
CREATED:20180222T031555Z
LAST-MODIFIED:20180222T031555Z
UID:5683-1527984000-1528070399@camberwellsharks.com.au
SUMMARY:PHOTO DAY - Teams & Individual
DESCRIPTION:Sports in Focus will be attending Lynden Park to take Team and Individual photos. \nTimes and link to purchase for each will be available closer to the date.
URL:https://camberwellsharks.com.au/event/photo-day-teams-individual/
LOCATION:Lynden Park\, Lynden Park\, Camberwell\, VIC\, 3124\, Australia
ATTACH;FMTTYPE=image/jpeg:https://camberwellsharks.com.au/wp-content/uploads/2018/02/Sports-in-Focus-pic-1.jpg
END:VEVENT
BEGIN:VEVENT
DTSTART;TZID=Australia/Melbourne:20180527T173000
DTEND;TZID=Australia/Melbourne:20180527T193000
DTSTAMP:20260421T172535
CREATED:20180413T231841Z
LAST-MODIFIED:20180521T101805Z
UID:6237-1527442200-1527449400@camberwellsharks.com.au
SUMMARY:Monthly Medal Night - Shaun Grigg\, RFC
DESCRIPTION:Every month we have our Monthly Medal Night and this month is set to be a great one! \nShaun Grigg\, Richmond FC will be shaking hands with the well deserved Monthly Medal winners of each team and of course having a bit of Q&A with Sharks Dad\, Jonathan Brown! \nThis is a great social occasion for Sharks Families so come along for some fabulous food by Mocha Monkey & Mimi’s\, a quiet beverage and great company! \nSee you there!
URL:https://camberwellsharks.com.au/event/medal-night-may/
LOCATION:Sharks Clubrooms\, Lynden Park\, Lynden St\, Camberwell\, VIC\, 3124\, Australia
ATTACH;FMTTYPE=image/png:https://camberwellsharks.com.au/wp-content/uploads/2018/04/GRIGG20Shaun.png
END:VEVENT
BEGIN:VEVENT
DTSTART;VALUE=DATE:20180527
DTEND;VALUE=DATE:20180528
DTSTAMP:20260421T172535
CREATED:20180305T002553Z
LAST-MODIFIED:20180515T065459Z
UID:5748-1527379200-1527465599@camberwellsharks.com.au
SUMMARY:Under 9s Round Robin YJFL
DESCRIPTION:Every year the Yarra Junior Football League puts aside a day to celebrate the participation of our youngest age group with a round-robin football carnival held at the League’s headquarters at Bulleen Park. This celebration was previously known as Tackers Day. \nUnder 9s Day 2018 will be held on Sunday 27 May commencing at 9:00 am. \nEach team will be allocated a ground for the day and will play 4 games of 2 X 6-minute halves – normal Under 9 Rules apply \nJumping Castles\, Canteens and sausage sizzles will be situated at both ends of Bulleen Park \nGood Luck to our three Sharks U9s Team!
URL:https://camberwellsharks.com.au/event/under-9s-day/
LOCATION:VIC
ATTACH;FMTTYPE=image/jpeg:https://camberwellsharks.com.au/wp-content/uploads/2018/03/U9-Ross-3.jpg
END:VEVENT
BEGIN:VEVENT
DTSTART;VALUE=DATE:20180527
DTEND;VALUE=DATE:20180528
DTSTAMP:20260421T172535
CREATED:20180305T002322Z
LAST-MODIFIED:20180305T002322Z
UID:5746-1527379200-1527465599@camberwellsharks.com.au
SUMMARY:Round 7 2018
DESCRIPTION:
URL:https://camberwellsharks.com.au/event/round-7-2018/
LOCATION:VIC
END:VEVENT
BEGIN:VEVENT
DTSTART;VALUE=DATE:20180520
DTEND;VALUE=DATE:20180521
DTSTAMP:20260421T172535
CREATED:20180305T002244Z
LAST-MODIFIED:20180517T041533Z
UID:5744-1526774400-1526860799@camberwellsharks.com.au
SUMMARY:Under 8s Round Robin YJFL
DESCRIPTION:Every year the Yarra Junior Football League puts aside a day to celebrate the participation of our youngest age group with a round-robin football carnival held at the League’s headquarters at Bulleen Park. This celebration was previously known as Tackers Day.   \nUnder 8s Day 2018 will be held on Sunday 20 May commencing at 9:00 am.  \nEach team will be allocated a ground for the day and will play 4 games of 2 X 6-minute halves – normal Under 8 Rules apply \nJumping Castles\, Canteens and sausage sizzles will be situated at both ends of Bulleen Park  \nGood Luck to our three Sharks U8s Team!
URL:https://camberwellsharks.com.au/event/under-8s-round-robin-yjfl/
LOCATION:Bulleen Park – YJFL\, 175 Bulleen Road\, Bulleen\, VIC\, 3105\, Australia
ATTACH;FMTTYPE=image/jpeg:https://camberwellsharks.com.au/wp-content/uploads/2018/03/U8-Bain.jpg
END:VEVENT
BEGIN:VEVENT
DTSTART;VALUE=DATE:20180520
DTEND;VALUE=DATE:20180521
DTSTAMP:20260421T172535
CREATED:20180305T001829Z
LAST-MODIFIED:20180305T001829Z
UID:5740-1526774400-1526860799@camberwellsharks.com.au
SUMMARY:Round 6 2018
DESCRIPTION:
URL:https://camberwellsharks.com.au/event/round-6-2018/
LOCATION:VIC
END:VEVENT
BEGIN:VEVENT
DTSTART;VALUE=DATE:20180513
DTEND;VALUE=DATE:20180514
DTSTAMP:20260421T172535
CREATED:20180305T001727Z
LAST-MODIFIED:20180305T001727Z
UID:5738-1526169600-1526255999@camberwellsharks.com.au
SUMMARY:Round 5 2018
DESCRIPTION:
URL:https://camberwellsharks.com.au/event/round-5-2018/
LOCATION:VIC
END:VEVENT
BEGIN:VEVENT
DTSTART;VALUE=DATE:20180506
DTEND;VALUE=DATE:20180507
DTSTAMP:20260421T172535
CREATED:20180305T001656Z
LAST-MODIFIED:20180305T001656Z
UID:5736-1525564800-1525651199@camberwellsharks.com.au
SUMMARY:Round 4 2018
DESCRIPTION:
URL:https://camberwellsharks.com.au/event/round-4-2018/
LOCATION:VIC
END:VEVENT
BEGIN:VEVENT
DTSTART;TZID=Australia/Melbourne:20180429T173000
DTEND;TZID=Australia/Melbourne:20180429T200000
DTSTAMP:20260421T172535
CREATED:20171201T040742Z
LAST-MODIFIED:20180423T073724Z
UID:5370-1525023000-1525032000@camberwellsharks.com.au
SUMMARY:MONTHLY MEDAL NIGHT
DESCRIPTION:MONTHLY MEDAL NIGHT\nSunday 29th April\n5:30pm \nWinners of team Monthly Medals announced and congratulations to the current 50 / 100 milestone game players! \nGuest Speaker: Bailey Dale Western Bulldogs \nCurry night plus our normal Pizza & sausages available for dinner\nBeer\, Wine\, and soft drinks \nCome along and socialise with the Sharks community! \nSharks – more than just footy!
URL:https://camberwellsharks.com.au/event/1st-medal-night-4/
LOCATION:Sharks Clubhouse\, Lynden Park\, Lynden Park\, Lynden St\, Camberwell\, VIC\, 3124\, Australia
CATEGORIES:Club,Social
ATTACH;FMTTYPE=image/png:https://camberwellsharks.com.au/wp-content/uploads/2017/12/DALE20Bailey.png
END:VEVENT
BEGIN:VEVENT
DTSTART;VALUE=DATE:20180429
DTEND;VALUE=DATE:20180430
DTSTAMP:20260421T172535
CREATED:20180429T011453Z
LAST-MODIFIED:20180305T001612Z
UID:5734-1524960000-1525046399@camberwellsharks.com.au
SUMMARY:Round 3 2018
DESCRIPTION:
URL:https://camberwellsharks.com.au/event/round-3-2018/
LOCATION:VIC
END:VEVENT
BEGIN:VEVENT
DTSTART;VALUE=DATE:20180429
DTEND;VALUE=DATE:20180430
DTSTAMP:20260421T172535
CREATED:20180305T002056Z
LAST-MODIFIED:20180305T002056Z
UID:5742-1524960000-1525046399@camberwellsharks.com.au
SUMMARY:Round 3 2018
DESCRIPTION:
URL:https://camberwellsharks.com.au/event/round-3-2018-2/
LOCATION:VIC
END:VEVENT
END:VCALENDAR