BEGIN:VCALENDAR
VERSION:2.0
PRODID:-//Camberwell Sharks - ECPv6.15.20//NONSGML v1.0//EN
CALSCALE:GREGORIAN
METHOD:PUBLISH
X-ORIGINAL-URL:https://camberwellsharks.com.au
X-WR-CALDESC:Events for Camberwell Sharks
REFRESH-INTERVAL;VALUE=DURATION:PT1H
X-Robots-Tag:noindex
X-PUBLISHED-TTL:PT1H
BEGIN:VTIMEZONE
TZID:Australia/Melbourne
BEGIN:STANDARD
TZOFFSETFROM:+1100
TZOFFSETTO:+1000
TZNAME:AEST
DTSTART:20200404T160000
END:STANDARD
BEGIN:DAYLIGHT
TZOFFSETFROM:+1000
TZOFFSETTO:+1100
TZNAME:AEDT
DTSTART:20201003T160000
END:DAYLIGHT
BEGIN:STANDARD
TZOFFSETFROM:+1100
TZOFFSETTO:+1000
TZNAME:AEST
DTSTART:20210403T160000
END:STANDARD
BEGIN:DAYLIGHT
TZOFFSETFROM:+1000
TZOFFSETTO:+1100
TZNAME:AEDT
DTSTART:20211002T160000
END:DAYLIGHT
BEGIN:STANDARD
TZOFFSETFROM:+1100
TZOFFSETTO:+1000
TZNAME:AEST
DTSTART:20220402T160000
END:STANDARD
BEGIN:DAYLIGHT
TZOFFSETFROM:+1000
TZOFFSETTO:+1100
TZNAME:AEDT
DTSTART:20221001T160000
END:DAYLIGHT
BEGIN:STANDARD
TZOFFSETFROM:+1100
TZOFFSETTO:+1000
TZNAME:AEST
DTSTART:20230401T160000
END:STANDARD
BEGIN:DAYLIGHT
TZOFFSETFROM:+1000
TZOFFSETTO:+1100
TZNAME:AEDT
DTSTART:20230930T160000
END:DAYLIGHT
END:VTIMEZONE
BEGIN:VEVENT
DTSTART;VALUE=DATE:20220807
DTEND;VALUE=DATE:20220808
DTSTAMP:20260420T052142
CREATED:20220523T010048Z
LAST-MODIFIED:20220523T010048Z
UID:10819-1659830400-1659916799@camberwellsharks.com.au
SUMMARY:Round 15
DESCRIPTION:Good Luck Sharks! \nDon’t forget to check fixtures and to thank your Coaches\, Team Managers and the parents that got you to the game! \nGo Sharks!
URL:https://camberwellsharks.com.au/event/round-15-2/
END:VEVENT
BEGIN:VEVENT
DTSTART;TZID=Australia/Melbourne:20220805T123000
DTEND;TZID=Australia/Melbourne:20220805T170000
DTSTAMP:20260420T052142
CREATED:20220523T005953Z
LAST-MODIFIED:20220705T035340Z
UID:10817-1659702600-1659718800@camberwellsharks.com.au
SUMMARY:Sharks Annual Lunch 2022
DESCRIPTION:Join us at our Sharks Annual Lunch this August to help raise money for Red Dust! \nLike years past\, $20 from every ticket is donated to charity – This years charity is Red Dust. \nRed Dust inspires positive change in remote Indigenous communities through a unique ‘community-as-family’ model of health and well-being building programs. For over twenty years they have walked alongside community leaders and elders to create a stronger future for youth and their families. They draw on the strengths of both western health knowledge and traditional cultural knowledges that inﬂuence young people in community. Their positive role models and engaging\, high impact programs help build resilience in young people and inspire them to identify and pursue their dreams. They also work together with Australians more broadly to help build cross-cultural competency through tailored cultural training\, community immersion experiences and volunteering opportunities. \n \nCamberwell Sharks Annual Lunch will have the normal fundraising activities of an auction\, door prizes and table raffles.  If you have anything (eg weekend away at your holiday house) or your business has anything to donate for the auction\, please contact Sharks on info@camberwellsharks.com.au. All donations will go directly to supporting our Footy budget for Season 2023. \nDate:  Friday 5th August 2022 \nTime: 12:30pm until 5pm \nWhere:  NEW VENUE! – Rivers Edge Events\, 18-38 Siddeley Street\, Melbourne \nLine up:  TBC – Comedian Santo Cilauro\, Ex-AFL Star turned TV & Radio Presenter Luke Darcy\, Ex-AFL Star and now Consultant Will Minson and Red Dust CEO Scott Stirling \nPrice:  $130 per person (includes 3 course lunch\, beer\, wine\, soft drinks and $20 to charity – RED DUST) \nTable Price: $1200 for 10 tickets on one table.  Must purchase 10 tickets for one table – At checkout enter coupon Code SharksLunch10 to receive $100 off \nBuying more than one ticket or a table?: We must have everyone’s name for the door list.  At checkout there is an option “Additional Information (Order Notes)” – Please list those attending here. \nWhen purchasing your ticket\, please include which TEAM TABLE you would like to sit at (this can be found under “Choose an Option” ) \nBook Now and you won’t be disappointed!
URL:https://camberwellsharks.com.au/event/sharks-annual-lunch-2022/
LOCATION:Rivers Edge Events\, 18 Siddeley Street\, Melbourne\, Victoria\, 3124\, Australia
ATTACH;FMTTYPE=image/jpeg:https://camberwellsharks.com.au/wp-content/uploads/2022/06/Sharks-Lunch-product-image-e1656401667213.jpg
END:VEVENT
BEGIN:VEVENT
DTSTART;VALUE=DATE:20220731
DTEND;VALUE=DATE:20220801
DTSTAMP:20260420T052142
CREATED:20220523T005850Z
LAST-MODIFIED:20220523T005850Z
UID:10815-1659225600-1659311999@camberwellsharks.com.au
SUMMARY:Round 14
DESCRIPTION:
URL:https://camberwellsharks.com.au/event/round-14-3/
END:VEVENT
BEGIN:VEVENT
DTSTART;TZID=Australia/Melbourne:20220730T160000
DTEND;TZID=Australia/Melbourne:20220730T193000
DTSTAMP:20260420T052142
CREATED:20220620T044228Z
LAST-MODIFIED:20220620T044228Z
UID:10864-1659196800-1659209400@camberwellsharks.com.au
SUMMARY:Footy Under Lights @ Shark Park - Girls Night Out!!
DESCRIPTION:Saturday Night Footy is here at Shark Park and we are cheering on our Girls U11s and U12 teams as they hit the grounds for our Girls Night Out !! \nROUND 14 \n4:30pm – U12 Girls  – Camberwell  Vs Heidelberg \n6pm – U11 Girls – Camberwell Vs Parkside \nCome down and watch some footy and enjoy a sausage sizzle on us! \nNo Canteen though so BYO snacks and drinks. \nGo Sharks!!!
URL:https://camberwellsharks.com.au/event/footy-under-lights-shark-park-tonight-2/
LOCATION:Shark Park!\, Lynden Park\, Lynden St\, Camberwell\, Victoria\, 3124\, Australia
ATTACH;FMTTYPE=image/jpeg:https://camberwellsharks.com.au/wp-content/uploads/2022/06/Night-Footy-Promo1-e1655699405416.jpg
END:VEVENT
BEGIN:VEVENT
DTSTART;VALUE=DATE:20220724
DTEND;VALUE=DATE:20220725
DTSTAMP:20260420T052142
CREATED:20220523T005754Z
LAST-MODIFIED:20220523T005754Z
UID:10813-1658620800-1658707199@camberwellsharks.com.au
SUMMARY:Round 13
DESCRIPTION:
URL:https://camberwellsharks.com.au/event/round-13-3/
END:VEVENT
BEGIN:VEVENT
DTSTART;TZID=Australia/Melbourne:20220723T163000
DTEND;TZID=Australia/Melbourne:20220723T193000
DTSTAMP:20260420T052142
CREATED:20220620T043833Z
LAST-MODIFIED:20220620T043833Z
UID:10862-1658593800-1658604600@camberwellsharks.com.au
SUMMARY:Footy Under Lights @ Shark Park Tonight!
DESCRIPTION:Saturday Night Footy is here at Shark Park!! \nROUND 13 \n4:45pm – U8 Mixed  – Camberwell (L)  Vs Kew Comets \n4:45pm – U8 Mixed – Camberwell (W) Vs Ashburton \n6pm – U9 Mixed – Camberwell (H) Vs Camberwell (M) \n6pm U9 Mixed – Camberwell (R) Vs Richmond \nCome down and watch some footy and enjoy a sausage sizzle on us! \nNo Canteen though so BYO snacks and drinks. \nGo Sharks!!!
URL:https://camberwellsharks.com.au/event/footy-under-lights-shark-park-tonight/
LOCATION:Shark Park!\, Lynden Park\, Lynden St\, Camberwell\, Victoria\, 3124\, Australia
ATTACH;FMTTYPE=image/jpeg:https://camberwellsharks.com.au/wp-content/uploads/2022/06/Night-Footy-Promo1-e1655699405416.jpg
END:VEVENT
BEGIN:VEVENT
DTSTART;VALUE=DATE:20220717
DTEND;VALUE=DATE:20220718
DTSTAMP:20260420T052142
CREATED:20220523T005619Z
LAST-MODIFIED:20220523T005619Z
UID:10810-1658016000-1658102399@camberwellsharks.com.au
SUMMARY:Round 12
DESCRIPTION:Good Luck Sharks! \nDon’t forget to check fixtures and to thank your Coaches\, Team Managers and the parents that got you to the game! \nGo Sharks!
URL:https://camberwellsharks.com.au/event/round-12-3/
END:VEVENT
BEGIN:VEVENT
DTSTART;TZID=Australia/Melbourne:20220715T170000
DTEND;TZID=Australia/Melbourne:20220715T190000
DTSTAMP:20260420T052142
CREATED:20220620T043251Z
LAST-MODIFIED:20220620T043251Z
UID:10858-1657904400-1657911600@camberwellsharks.com.au
SUMMARY:Friday Night Footy @ Shark Park
DESCRIPTION:Friday Night Footy is here at Shark Park!! \nROUND 12  \n5:30pm – U10 Mixed  – Camberwell (G)  Vs Glen Iris \nCome down and watch some footy and enjoy a sausage sizzle on us! \nNo Canteen though so BYO snacks and drinks. \nGo Sharks!!!
URL:https://camberwellsharks.com.au/event/friday-night-footy-shark-park/
LOCATION:Shark Park!\, Lynden Park\, Lynden St\, Camberwell\, Victoria\, 3124\, Australia
CATEGORIES:Club,League,Social
ATTACH;FMTTYPE=image/jpeg:https://camberwellsharks.com.au/wp-content/uploads/2022/06/Night-Footy-Promo1-e1655699405416.jpg
END:VEVENT
BEGIN:VEVENT
DTSTART;VALUE=DATE:20220710
DTEND;VALUE=DATE:20220711
DTSTAMP:20260420T052142
CREATED:20220523T005515Z
LAST-MODIFIED:20220523T005515Z
UID:10808-1657411200-1657497599@camberwellsharks.com.au
SUMMARY:NO GAMES
DESCRIPTION:
URL:https://camberwellsharks.com.au/event/no-games-5/
END:VEVENT
BEGIN:VEVENT
DTSTART;VALUE=DATE:20220705
DTEND;VALUE=DATE:20220707
DTSTAMP:20260420T052142
CREATED:20220602T042451Z
LAST-MODIFIED:20220620T042413Z
UID:10845-1656979200-1657151999@camberwellsharks.com.au
SUMMARY:Camberwell Sharks Footy Clinic - Two days
DESCRIPTION:Brought to you by McDonald Management\, this two day event will cover skill based drills\, fun & games and match simulation. \nEach day will run for 4 hours – 10am – 2pm. \nInclusions: Prizes to be won throughout camp\, along with showbags handed out post camp. \nTuesday 5th July and Wednesday 6th July \nBoth days are 10am – 2pm (drop off 9:45am) – Attend both days or just one\nIf you are selecting both days\, please follow these instructions: Choose the first day\, complete the details for your booking\, select next. On the checkout page there is a link at the bottom of the cart ‘Buy more tickets’ click on this and select the second day. When checking out don’t forget to apply discount code – SHARKS2DAYS \nBYO lunch and clearly labelled ball and drink bottle! \nPlayers will be split into two groups – U8-U10s and U11s and over. Boys and Girls will also be split into groups as well. \nLocation:  Lynden Park aka Shark Park \nREGISTER HERE >>>> SHARKS CAMP <<<<\n 
URL:https://camberwellsharks.com.au/event/camp-footy-holiday-camp/
LOCATION:Shark Park!\, Lynden Park\, Lynden St\, Camberwell\, Victoria\, 3124\, Australia
CATEGORIES:Club,Social
END:VEVENT
BEGIN:VEVENT
DTSTART;VALUE=DATE:20220703
DTEND;VALUE=DATE:20220704
DTSTAMP:20260420T052142
CREATED:20220523T005421Z
LAST-MODIFIED:20220523T005421Z
UID:10806-1656806400-1656892799@camberwellsharks.com.au
SUMMARY:NO GAMES
DESCRIPTION:
URL:https://camberwellsharks.com.au/event/no-games-4/
END:VEVENT
BEGIN:VEVENT
DTSTART;VALUE=DATE:20220626
DTEND;VALUE=DATE:20220627
DTSTAMP:20260420T052142
CREATED:20220523T005337Z
LAST-MODIFIED:20220523T005337Z
UID:10804-1656201600-1656287999@camberwellsharks.com.au
SUMMARY:Round 11
DESCRIPTION:Good Luck Sharks! \nDon’t forget to check fixtures and to thank your Coaches\, Team Managers and the parents that got you to the game! \nGo Sharks!
URL:https://camberwellsharks.com.au/event/round-11-3/
END:VEVENT
BEGIN:VEVENT
DTSTART;VALUE=DATE:20220625
DTEND;VALUE=DATE:20220711
DTSTAMP:20260420T052142
CREATED:20220523T002937Z
LAST-MODIFIED:20220523T002937Z
UID:10776-1656115200-1657497599@camberwellsharks.com.au
SUMMARY:School Holidays
DESCRIPTION:
URL:https://camberwellsharks.com.au/event/school-holidays-7/
END:VEVENT
BEGIN:VEVENT
DTSTART;TZID=Australia/Melbourne:20220620T170000
DTEND;TZID=Australia/Melbourne:20220620T190000
DTSTAMP:20260420T052142
CREATED:20220523T002425Z
LAST-MODIFIED:20220523T004622Z
UID:10770-1655744400-1655751600@camberwellsharks.com.au
SUMMARY:Monday Night FREE Sessions
DESCRIPTION:YES THEY ARE FREE!!! Not too late to register! \nEvery Monday for Term 2 \nSessions will focus on skills\, drills\, fitness and of course FUN! \nPLAYERS MUST BE REGISTERED TO ATTEND \nGO SHARKS! #Premiers2022\nREGISTER HERE >> https://forms.gle/uvmHjd9E5KLa2S9p8
URL:https://camberwellsharks.com.au/event/monday-night-free-sessions-5/
LOCATION:Shark Park!\, Lynden Park\, Lynden St\, Camberwell\, Victoria\, 3124\, Australia
END:VEVENT
BEGIN:VEVENT
DTSTART;TZID=Australia/Melbourne:20220613T170000
DTEND;TZID=Australia/Melbourne:20220613T190000
DTSTAMP:20260420T052142
CREATED:20220613T001927Z
LAST-MODIFIED:20220523T002256Z
UID:10767-1655139600-1655146800@camberwellsharks.com.au
SUMMARY:Monday Night FREE Sessions
DESCRIPTION:NO SESSION LONG WEEKEND
URL:https://camberwellsharks.com.au/event/monday-night-free-sessions-4/
END:VEVENT
BEGIN:VEVENT
DTSTART;VALUE=DATE:20220612
DTEND;VALUE=DATE:20220613
DTSTAMP:20260420T052142
CREATED:20220523T005110Z
LAST-MODIFIED:20220523T005110Z
UID:10800-1654992000-1655078399@camberwellsharks.com.au
SUMMARY:NO GAMES
DESCRIPTION:Queen’s Birthday Long Weekend
URL:https://camberwellsharks.com.au/event/no-games-3/
END:VEVENT
BEGIN:VEVENT
DTSTART;TZID=Australia/Melbourne:20220606T170000
DTEND;TZID=Australia/Melbourne:20220606T190000
DTSTAMP:20260420T052142
CREATED:20220523T001804Z
LAST-MODIFIED:20220523T004543Z
UID:10765-1654534800-1654542000@camberwellsharks.com.au
SUMMARY:Monday Night FREE Sessions
DESCRIPTION:YES THEY ARE FREE!!! Not too late to register! \nEvery Monday for Term 2 \nSessions will focus on skills\, drills\, fitness and of course FUN! \nPLAYERS MUST BE REGISTERED TO ATTEND \nGO SHARKS! #Premiers2022\nREGISTER HERE >> https://forms.gle/uvmHjd9E5KLa2S9p8
URL:https://camberwellsharks.com.au/event/monday-night-free-sessions-3/
LOCATION:Shark Park!\, Lynden Park\, Lynden St\, Camberwell\, Victoria\, 3124\, Australia
END:VEVENT
BEGIN:VEVENT
DTSTART;VALUE=DATE:20220605
DTEND;VALUE=DATE:20220606
DTSTAMP:20260420T052142
CREATED:20220523T005030Z
LAST-MODIFIED:20220523T005030Z
UID:10798-1654387200-1654473599@camberwellsharks.com.au
SUMMARY:Round 9
DESCRIPTION:Good Luck Sharks! \nDon’t forget to check fixtures and to thank your Coaches\, Team Managers and the parents that got you to the game! \nGo Sharks!
URL:https://camberwellsharks.com.au/event/round-9-3/
END:VEVENT
BEGIN:VEVENT
DTSTART;TZID=Australia/Melbourne:20220530T170000
DTEND;TZID=Australia/Melbourne:20220530T190000
DTSTAMP:20260420T052142
CREATED:20220523T001710Z
LAST-MODIFIED:20220523T004453Z
UID:10763-1653930000-1653937200@camberwellsharks.com.au
SUMMARY:Monday Night FREE Sessions
DESCRIPTION:YES THEY ARE FREE!!! Not too late to register! \nEvery Monday for Term 2 \nSessions will focus on skills\, drills\, fitness and of course FUN! \nPLAYERS MUST BE REGISTERED TO ATTEND \nGO SHARKS! #Premiers2022\nREGISTER HERE >> https://forms.gle/uvmHjd9E5KLa2S9p8
URL:https://camberwellsharks.com.au/event/monday-night-free-sessions-2/
LOCATION:Shark Park!\, Lynden Park\, Lynden St\, Camberwell\, Victoria\, 3124\, Australia
END:VEVENT
BEGIN:VEVENT
DTSTART;VALUE=DATE:20220529
DTEND;VALUE=DATE:20220530
DTSTAMP:20260420T052142
CREATED:20220523T004911Z
LAST-MODIFIED:20220523T004911Z
UID:10796-1653782400-1653868799@camberwellsharks.com.au
SUMMARY:Round 8
DESCRIPTION:Good Luck Sharks! \nDon’t forget to check fixtures and to thank your Coaches\, Team Managers and the parents that got you to the game! \nGo Sharks!
URL:https://camberwellsharks.com.au/event/round-8-and-may-medal-night/
END:VEVENT
BEGIN:VEVENT
DTSTART;VALUE=DATE:20220529
DTEND;VALUE=DATE:20220530
DTSTAMP:20260420T052142
CREATED:20220523T000935Z
LAST-MODIFIED:20220523T004115Z
UID:10754-1653782400-1653868799@camberwellsharks.com.au
SUMMARY:U9s Day Round Robin
DESCRIPTION:For the round robin competition\, each team will play a number of short format games over 1-2 hours. All details have been sent to Team Managers \nHave fun! Go Sharks!
URL:https://camberwellsharks.com.au/event/u9s-day-round-robin/
LOCATION:ford park
END:VEVENT
BEGIN:VEVENT
DTSTART;TZID=Australia/Melbourne:20220523T170000
DTEND;TZID=Australia/Melbourne:20220523T190000
DTSTAMP:20260420T052142
CREATED:20220523T001526Z
LAST-MODIFIED:20220523T004412Z
UID:10761-1653325200-1653332400@camberwellsharks.com.au
SUMMARY:Monday Night FREE Sessions
DESCRIPTION:YES THEY ARE FREE!!! Not too late to register! \nEvery Monday for Term 2 \nSessions will focus on skills\, drills\, fitness and of course FUN! \nPLAYERS MUST BE REGISTERED TO ATTEND \nGO SHARKS! #Premiers2022\nREGISTER HERE >> https://forms.gle/uvmHjd9E5KLa2S9p8
URL:https://camberwellsharks.com.au/event/monday-night-free-sessions/
LOCATION:Shark Park!\, Lynden Park\, Lynden St\, Camberwell\, Victoria\, 3124\, Australia
END:VEVENT
BEGIN:VEVENT
DTSTART;TZID=Australia/Melbourne:20220523T080000
DTEND;TZID=Australia/Melbourne:20220523T170000
DTSTAMP:20260420T052142
CREATED:20220523T005150Z
LAST-MODIFIED:20220523T005150Z
UID:10802-1653292800-1653325200@camberwellsharks.com.au
SUMMARY:Round 10
DESCRIPTION:Good Luck Sharks! \nDon’t forget to check fixtures and to thank your Coaches\, Team Managers and the parents that got you to the game! \nGo Sharks!
URL:https://camberwellsharks.com.au/event/round-10-3/
END:VEVENT
BEGIN:VEVENT
DTSTART;VALUE=DATE:20220523
DTEND;VALUE=DATE:20220524
DTSTAMP:20260420T052142
CREATED:20220523T001242Z
LAST-MODIFIED:20220523T004016Z
UID:10757-1653264000-1653350399@camberwellsharks.com.au
SUMMARY:Holiday Program
DESCRIPTION:Save the Date – More details to come!
URL:https://camberwellsharks.com.au/event/holiday-program/
LOCATION:Shark Park!\, Lynden Park\, Lynden St\, Camberwell\, Victoria\, 3124\, Australia
END:VEVENT
BEGIN:VEVENT
DTSTART;TZID=Australia/Melbourne:20210806T120000
DTEND;TZID=Australia/Melbourne:20210806T170000
DTSTAMP:20260420T052142
CREATED:20210512T044802Z
LAST-MODIFIED:20210711T233604Z
UID:9810-1628251200-1628269200@camberwellsharks.com.au
SUMMARY:Sharks Long Lunch
DESCRIPTION:Join us at our Long Lunch this August to help raise money for Red Dust! \nLike years past\, $20 from every ticket is donated to charity – This years charity is Red Dust. \nRed Dust inspires positive change in remote Indigenous communities through a unique ‘community-as-family’ model of health and well-being building programs. For over twenty years they have walked alongside community leaders and elders to create a stronger future for youth and their families. They draw on the strengths of both western health knowledge and traditional cultural knowledges that inﬂuence young people in community. Their positive role models and engaging\, high impact programs help build resilience in young people and inspire them to identify and pursue their dreams. They also work together with Australians more broadly to help build cross-cultural competency through tailored cultural training\, community immersion experiences and volunteering opportunities. \n \nCamberwell Sharks – Long Lunch will have the normal fundraising activities of an auction\, door prizes and table raffles.  If you have anything (eg weekend away at your holiday house) or your business has anything to donate for the auction\, please contact Sharks on events@camberwellsharks.com.au. All donations will go directly to supporting our Footy budget for Season 2022. \nDate:  Friday 6th August 2021 \nTime: 12:30pm until 5pm \nWhere:  NEW VENUE! – Rivers Edge Events\, 18-38 Siddeley Street\, Melbourne \nLine up:  Comedian Santo Cilauro\, Richmond CEO Brendan Gale\, Ex-AFL Star Will Minson and Red Dust CEO Scott Stirling \nPrice:  $130 per person (includes 3 course lunch\, beer\, wine\, soft drinks and $20 to charity – RED DUST) \nTable Price: $1200 for 10 tickets on one table.  Must purchase 10 tickets for one table – At checkout enter coupon Code LongLunch10 to receive $100 off \nBuying more than one ticket or a table?: We must have everyone’s name for the door list.  At checkout there is an option “Additional Information (Order Notes)” – Please list those attending here. \nWhen purchasing your ticket\, please include which TEAM TABLE you would like to sit at (this can be found under “Choose an Option” ) \nBook Now and you won’t be disappointed! \n 
URL:https://camberwellsharks.com.au/event/sharks-long-lunch/
ATTACH;FMTTYPE=image/jpeg:https://camberwellsharks.com.au/wp-content/uploads/2021/07/Dads-Lunch-SM-V2-1.jpg
END:VEVENT
BEGIN:VEVENT
DTSTART;VALUE=DATE:20210620
DTEND;VALUE=DATE:20210621
DTSTAMP:20260420T052142
CREATED:20210512T043908Z
LAST-MODIFIED:20210512T043908Z
UID:9791-1624147200-1624233599@camberwellsharks.com.au
SUMMARY:Pink Sports Day
DESCRIPTION:Get your pink socks on for Round 9 of footy! \nHave you ordered your socks?  ORDER NOW! \n 
URL:https://camberwellsharks.com.au/event/pink-sports-day/
ATTACH;FMTTYPE=image/jpeg:https://camberwellsharks.com.au/wp-content/uploads/2021/04/OnField-copy.jpg
END:VEVENT
BEGIN:VEVENT
DTSTART;TZID=Australia/Melbourne:20210619T190000
DTEND;TZID=Australia/Melbourne:20210619T220000
DTSTAMP:20260420T052142
CREATED:20210512T044332Z
LAST-MODIFIED:20210512T044332Z
UID:9801-1624129200-1624140000@camberwellsharks.com.au
SUMMARY:Half Time Drinks
DESCRIPTION:HALF TIME DRINKS \nSave the Date for our Sharks “Half Time” event – halfway through the season on Saturday 19th June! \nThe night will include dinner\, drinks and great company as Sharks parents gather to celebrate our season and support BCNA. \nTickets will be $50 including dinner and drinks\, with part proceeds going to breast cancer research. \nMore information and ticket sales to come
URL:https://camberwellsharks.com.au/event/half-time-drinks/
ATTACH;FMTTYPE=image/jpeg:https://camberwellsharks.com.au/wp-content/uploads/2021/05/Half-Time-Event.jpg
END:VEVENT
BEGIN:VEVENT
DTSTART;VALUE=DATE:20210619
DTEND;VALUE=DATE:20210620
DTSTAMP:20260420T052142
CREATED:20210512T044018Z
LAST-MODIFIED:20210512T044018Z
UID:9796-1624060800-1624147199@camberwellsharks.com.au
SUMMARY:Pink Sports Day - Auskick
DESCRIPTION:Get your pink socks on for Round 8 of Auskick! \nHave you ordered your socks?  ORDER NOW! \n 
URL:https://camberwellsharks.com.au/event/pink-sports-day-auskick/
ATTACH;FMTTYPE=image/jpeg:https://camberwellsharks.com.au/wp-content/uploads/2021/04/OnField-copy.jpg
END:VEVENT
BEGIN:VEVENT
DTSTART;TZID=Australia/Melbourne:20210604T173000
DTEND;TZID=Australia/Melbourne:20210604T213000
DTSTAMP:20260420T052142
CREATED:20210512T044708Z
LAST-MODIFIED:20210512T044708Z
UID:9808-1622827800-1622842200@camberwellsharks.com.au
SUMMARY:St John First Aid Course
DESCRIPTION:St John First Aid Course Friday 4 June\nThe Camberwell Sharks have offered to host a St John’s First Aid course for community members who are interested in gaining their First Aid certification. \nThe St John’s cost is $195 & the Sharks are offering to reimburse the first 10 people who sign up for the course\, if they use the certification to volunteer for a trainer role at our club in 2022. \nFriday 4 June 2021 at 5:30 PM to 9:30 PM \nMORE INFORMATION HERE
URL:https://camberwellsharks.com.au/event/st-john-first-aid-course/
END:VEVENT
BEGIN:VEVENT
DTSTART;TZID=Australia/Melbourne:20210523T180000
DTEND;TZID=Australia/Melbourne:20210523T200000
DTSTAMP:20260420T052142
CREATED:20210512T044514Z
LAST-MODIFIED:20210522T064354Z
UID:9806-1621792800-1621800000@camberwellsharks.com.au
SUMMARY:Monthly Medal Night
DESCRIPTION:Monthly Medal Night is here! Sunday May 23rd 5.30pm\n\nGuest Speaker is AFL Player Charlie Spargo\nDinner and Drinks 5.30-6pm\nPresentation (Drinks will not be served)  6-7pm\nMore Food and Drinks 7-8pm\nHot dinner is Paella and Butter Chicken\nPizza and snags will also be available\nIt is critical that NO alcohol is taken out the marked area\nSocial distancing and area capacity limits must be observed.\nPlease BYO wine glass or champagne glass – we will provide the stuff to go into it!\nBYO Coat\nPlease bring your own camp chairs.\nPlease be patient with us as we are trying something new and discuss with your kids to be quiet when the presentation and guests are talking.\nMerchandise will be available for pick up (if you have already ordered it between 530pm-6pm and 730pm-8pm)\nThe Bar will be card only\nPizza and Sausages will be $2 a slice and a snag so please bring gold coins or small notes.\n\nWe look forward to seeing everyone for this outdoor Covid friendly event!
URL:https://camberwellsharks.com.au/event/monthly-medal-night/
LOCATION:Shark Park!\, Lynden Park\, Lynden St\, Camberwell\, Victoria\, 3124\, Australia
ATTACH;FMTTYPE=image/jpeg:https://camberwellsharks.com.au/wp-content/uploads/2021/05/Spargo.jpg
END:VEVENT
END:VCALENDAR