BEGIN:VCALENDAR
VERSION:2.0
PRODID:-//Camberwell Sharks - ECPv6.15.20//NONSGML v1.0//EN
CALSCALE:GREGORIAN
METHOD:PUBLISH
X-ORIGINAL-URL:https://camberwellsharks.com.au
X-WR-CALDESC:Events for Camberwell Sharks
REFRESH-INTERVAL;VALUE=DURATION:PT1H
X-Robots-Tag:noindex
X-PUBLISHED-TTL:PT1H
BEGIN:VTIMEZONE
TZID:Australia/Melbourne
BEGIN:STANDARD
TZOFFSETFROM:+1100
TZOFFSETTO:+1000
TZNAME:AEST
DTSTART:20160402T160000
END:STANDARD
BEGIN:DAYLIGHT
TZOFFSETFROM:+1000
TZOFFSETTO:+1100
TZNAME:AEDT
DTSTART:20161001T160000
END:DAYLIGHT
BEGIN:STANDARD
TZOFFSETFROM:+1100
TZOFFSETTO:+1000
TZNAME:AEST
DTSTART:20170401T160000
END:STANDARD
BEGIN:DAYLIGHT
TZOFFSETFROM:+1000
TZOFFSETTO:+1100
TZNAME:AEDT
DTSTART:20170930T160000
END:DAYLIGHT
BEGIN:STANDARD
TZOFFSETFROM:+1100
TZOFFSETTO:+1000
TZNAME:AEST
DTSTART:20180331T160000
END:STANDARD
BEGIN:DAYLIGHT
TZOFFSETFROM:+1000
TZOFFSETTO:+1100
TZNAME:AEDT
DTSTART:20181006T160000
END:DAYLIGHT
BEGIN:STANDARD
TZOFFSETFROM:+1100
TZOFFSETTO:+1000
TZNAME:AEST
DTSTART:20190406T160000
END:STANDARD
BEGIN:DAYLIGHT
TZOFFSETFROM:+1000
TZOFFSETTO:+1100
TZNAME:AEDT
DTSTART:20191005T160000
END:DAYLIGHT
END:VTIMEZONE
BEGIN:VTIMEZONE
TZID:UTC
BEGIN:STANDARD
TZOFFSETFROM:+0000
TZOFFSETTO:+0000
TZNAME:UTC
DTSTART:20160101T000000
END:STANDARD
END:VTIMEZONE
BEGIN:VEVENT
DTSTART;TZID=Australia/Melbourne:20180215T170000
DTEND;TZID=Australia/Melbourne:20180215T170000
DTSTAMP:20260422T072725
CREATED:20171201T040740Z
LAST-MODIFIED:20180210T133914Z
UID:5364-1518714000-1518714000@camberwellsharks.com.au
SUMMARY:Boys Registrations Close
DESCRIPTION:
URL:https://camberwellsharks.com.au/event/boys-registrations-close/
LOCATION:VIC
END:VEVENT
BEGIN:VEVENT
DTSTART;TZID=Australia/Melbourne:20180210T100000
DTEND;TZID=Australia/Melbourne:20180210T100000
DTSTAMP:20260422T072725
CREATED:20171201T040740Z
LAST-MODIFIED:20171201T040740Z
UID:5363-1518256800-1518256800@camberwellsharks.com.au
SUMMARY:New Boys Registration Opens
DESCRIPTION:
URL:https://camberwellsharks.com.au/event/new-boys-registration-opens-4/
LOCATION:VIC
END:VEVENT
BEGIN:VEVENT
DTSTART;TZID=Australia/Melbourne:20180201T100000
DTEND;TZID=Australia/Melbourne:20180201T100000
DTSTAMP:20260422T072725
CREATED:20171201T040740Z
LAST-MODIFIED:20171201T040740Z
UID:5362-1517479200-1517479200@camberwellsharks.com.au
SUMMARY:Returning Boys Registration Opens
DESCRIPTION:
URL:https://camberwellsharks.com.au/event/returning-boys-registration-opens-4/
LOCATION:VIC
END:VEVENT
BEGIN:VEVENT
DTSTART;TZID=Australia/Melbourne:20171211T100000
DTEND;TZID=Australia/Melbourne:20171211T100000
DTSTAMP:20260422T072725
CREATED:20171201T040740Z
LAST-MODIFIED:20171201T040740Z
UID:5361-1512986400-1512986400@camberwellsharks.com.au
SUMMARY:Girls Only  Registration Opens
DESCRIPTION:
URL:https://camberwellsharks.com.au/event/girls-only-registration-opens-4/
LOCATION:VIC
END:VEVENT
BEGIN:VEVENT
DTSTART;TZID=UTC:20170927T150000
DTEND;TZID=UTC:20170927T180000
DTSTAMP:20260422T072725
CREATED:20170907T170408Z
LAST-MODIFIED:20170907T170408Z
UID:4235-1506524400-1506535200@camberwellsharks.com.au
SUMMARY:Girls Footy Day
DESCRIPTION:Please register for this free event at: https://www.trybooking.com/316076 \nCamberwell Sharks Junior Football Club welcomes you to join the Grand Final Week Girls Footy Day! \n3:00 pm to 6:00 pm at Lynden Park\, Camberwell on Wednesday the 27th of September 2017.  All ages welcome. \nThis fantastic FREE session will include training\, drills\, marking\, defensive play\, games\, refreshments\, BBQ and information for girls and parents. \nPaul Sartori (Box Hill VFLW Recruiter/Victorian Under 16 Girls Assistant Coach 2013-14) will host the day\, with Box Hill Hawks VFLW players\, special guest coaches\, and other top experts. \nThe Sharks are keen to have a big year in 2018 for Girls Footy so please come down for this fun day. \nThe information session starting at 5.30pm will keep you up to date with our plans for 2018.  Go Sharks! \n#camberwellsharks #camberwellsharksgirls #LocalSportsStars #GoSharks #grandfinal #girlsfooty #AFLW #VFLW #BoxHillHawks #trybooking
URL:https://camberwellsharks.com.au/event/girls-footy-day/
LOCATION:Lynden Park\, Lynden Park\, Camberwell\, VIC\, 3124\, Australia
CATEGORIES:Club,Social
END:VEVENT
BEGIN:VEVENT
DTSTART;TZID=UTC:20170827T173000
DTEND;TZID=UTC:20170827T200000
DTSTAMP:20260422T072725
CREATED:20170220T161604Z
LAST-MODIFIED:20170220T161604Z
UID:1038-1503855000-1503864000@camberwellsharks.com.au
SUMMARY:Annual Club Presentation Night
DESCRIPTION:
URL:https://camberwellsharks.com.au/event/annual-club-presentation-night/
LOCATION:Lynden Park\, Lynden Park\, Camberwell\, VIC\, 3124\, Australia
CATEGORIES:Club,Social
ORGANIZER;CN="Miles Beamish":MAILTO:miles@finlease.com.au
END:VEVENT
BEGIN:VEVENT
DTSTART;TZID=UTC:20170827T080000
DTEND;TZID=UTC:20170827T170000
DTSTAMP:20260422T072725
CREATED:20170220T164345Z
LAST-MODIFIED:20170220T164345Z
UID:1071-1503820800-1503853200@camberwellsharks.com.au
SUMMARY:YJFL Grand Final Day
DESCRIPTION:
URL:https://camberwellsharks.com.au/event/yjfl-grand-final-day/
LOCATION:Lynden Park\, Lynden Park\, Camberwell\, VIC\, 3124\, Australia
CATEGORIES:League
ORGANIZER;CN="Gavin Roker":MAILTO:groker@bigpond.net.au
END:VEVENT
BEGIN:VEVENT
DTSTART;TZID=UTC:20170822T180000
DTEND;TZID=UTC:20170822T220000
DTSTAMP:20260422T072725
CREATED:20170220T165140Z
LAST-MODIFIED:20170220T170236Z
UID:1073-1503424800-1503439200@camberwellsharks.com.au
SUMMARY:YJFL Presentation Night
DESCRIPTION:
URL:https://camberwellsharks.com.au/event/yjfl-presentation-night-2/
LOCATION:YJFL\, Bulleen Park Oval no. 1\, Bulleen Road\, Bulleen\, VIC\, 3105\, Australia
END:VEVENT
BEGIN:VEVENT
DTSTART;TZID=UTC:20170821T080000
DTEND;TZID=UTC:20170821T170000
DTSTAMP:20260422T072725
CREATED:20170219T225655Z
LAST-MODIFIED:20170219T225655Z
UID:1006-1503302400-1503334800@camberwellsharks.com.au
SUMMARY:Committee Meeting
DESCRIPTION:
URL:https://camberwellsharks.com.au/event/committee-meeting-11/
LOCATION:Lynden Park\, Lynden Park\, Camberwell\, VIC\, 3124\, Australia
CATEGORIES:Committee
ATTACH;FMTTYPE=image/jpeg:https://camberwellsharks.com.au/wp-content/uploads/2017/02/sharks-logo.jpg
END:VEVENT
BEGIN:VEVENT
DTSTART;TZID=UTC:20170820T080000
DTEND;TZID=UTC:20170820T170000
DTSTAMP:20260422T072725
CREATED:20170220T164256Z
LAST-MODIFIED:20170220T164256Z
UID:1069-1503216000-1503248400@camberwellsharks.com.au
SUMMARY:Preliminary Finals
DESCRIPTION:
URL:https://camberwellsharks.com.au/event/preliminary-finals-2/
LOCATION:Lynden Park\, Lynden Park\, Camberwell\, VIC\, 3124\, Australia
ORGANIZER;CN="Gavin Roker":MAILTO:groker@bigpond.net.au
END:VEVENT
BEGIN:VEVENT
DTSTART;TZID=UTC:20170813T080000
DTEND;TZID=UTC:20170813T170000
DTSTAMP:20260422T072725
CREATED:20170220T164204Z
LAST-MODIFIED:20170220T164204Z
UID:1067-1502611200-1502643600@camberwellsharks.com.au
SUMMARY:Semi Finals
DESCRIPTION:
URL:https://camberwellsharks.com.au/event/semi-finals-2/
LOCATION:Lynden Park\, Lynden Park\, Camberwell\, VIC\, 3124\, Australia
CATEGORIES:League
ORGANIZER;CN="Gavin Roker":MAILTO:groker@bigpond.net.au
END:VEVENT
BEGIN:VEVENT
DTSTART;TZID=UTC:20170806T080000
DTEND;TZID=UTC:20170806T170000
DTSTAMP:20260422T072725
CREATED:20170220T164119Z
LAST-MODIFIED:20170220T164119Z
UID:1065-1502006400-1502038800@camberwellsharks.com.au
SUMMARY:Round 14
DESCRIPTION:
URL:https://camberwellsharks.com.au/event/round-14-2/
LOCATION:Lynden Park\, Lynden Park\, Camberwell\, VIC\, 3124\, Australia
CATEGORIES:League
ORGANIZER;CN="Gavin Roker":MAILTO:groker@bigpond.net.au
END:VEVENT
BEGIN:VEVENT
DTSTART;TZID=UTC:20170804T120000
DTEND;TZID=UTC:20170804T170000
DTSTAMP:20260422T072725
CREATED:20170623T185409Z
LAST-MODIFIED:20170623T185409Z
UID:2382-1501848000-1501866000@camberwellsharks.com.au
SUMMARY:Sharks Dads' Lunch
DESCRIPTION:The annual fundraising Shark’s Dad Lunch is coming up soon on Friday August 4th. Bookings are now open\, via this try booking link\, with tickets again limited to 100. The link will ask you for team name (in addition to other personal details)\, for example u12 Moore\, so that we can arrange tables.
URL:https://camberwellsharks.com.au/event/sharks-dads-lunch/
LOCATION:The Kingston Hotel\, 55 Highett St\, Richmond\, VIC\, 3121\, Australia
CATEGORIES:Social
END:VEVENT
BEGIN:VEVENT
DTSTART;TZID=UTC:20170730T173000
DTEND;TZID=UTC:20170730T193000
DTSTAMP:20260422T072725
CREATED:20170220T155838Z
LAST-MODIFIED:20170220T155838Z
UID:1036-1501435800-1501443000@camberwellsharks.com.au
SUMMARY:Medal Night 3
DESCRIPTION:Pizzas\, sausage sizzle\, drinks & guest speaker. Get down to the club for a game day debrief with fellow Sharks.
URL:https://camberwellsharks.com.au/event/medal-night-3-2/
LOCATION:Lynden Park\, Lynden Park\, Camberwell\, VIC\, 3124\, Australia
CATEGORIES:Social
ORGANIZER;CN="Miles Beamish":MAILTO:miles@finlease.com.au
END:VEVENT
BEGIN:VEVENT
DTSTART;TZID=UTC:20170730T080000
DTEND;TZID=UTC:20170730T170000
DTSTAMP:20260422T072725
CREATED:20170220T164042Z
LAST-MODIFIED:20170220T164042Z
UID:1063-1501401600-1501434000@camberwellsharks.com.au
SUMMARY:Round 13
DESCRIPTION:
URL:https://camberwellsharks.com.au/event/round-13-2/
LOCATION:Lynden Park\, Lynden Park\, Camberwell\, VIC\, 3124\, Australia
CATEGORIES:League
ORGANIZER;CN="Gavin Roker":MAILTO:groker@bigpond.net.au
END:VEVENT
BEGIN:VEVENT
DTSTART;TZID=UTC:20170724T193000
DTEND;TZID=UTC:20170724T213000
DTSTAMP:20260422T072725
CREATED:20170219T225549Z
LAST-MODIFIED:20170219T225549Z
UID:1004-1500924600-1500931800@camberwellsharks.com.au
SUMMARY:Committee Meeting
DESCRIPTION:
URL:https://camberwellsharks.com.au/event/committee-meeting-10/
LOCATION:Lynden Park\, Lynden Park\, Camberwell\, VIC\, 3124\, Australia
CATEGORIES:Committee
ATTACH;FMTTYPE=image/jpeg:https://camberwellsharks.com.au/wp-content/uploads/2017/02/sharks-logo.jpg
END:VEVENT
BEGIN:VEVENT
DTSTART;TZID=UTC:20170723T080000
DTEND;TZID=UTC:20170723T170000
DTSTAMP:20260422T072725
CREATED:20170220T164009Z
LAST-MODIFIED:20170220T164009Z
UID:1061-1500796800-1500829200@camberwellsharks.com.au
SUMMARY:Round 12
DESCRIPTION:
URL:https://camberwellsharks.com.au/event/round-12-2/
LOCATION:Lynden Park\, Lynden Park\, Camberwell\, VIC\, 3124\, Australia
CATEGORIES:League
ORGANIZER;CN="Gavin Roker":MAILTO:groker@bigpond.net.au
END:VEVENT
BEGIN:VEVENT
DTSTART;TZID=UTC:20170722T190000
DTEND;TZID=UTC:20170722T230000
DTSTAMP:20260422T072725
CREATED:20170628T174853Z
LAST-MODIFIED:20170628T175020Z
UID:2387-1500750000-1500764400@camberwellsharks.com.au
SUMMARY:Ladies Night Out
DESCRIPTION:Book here https://www.trybooking.com/book/event?eid=294869&bof=1
URL:https://camberwellsharks.com.au/event/ladies-night-out/
LOCATION:Fordham Avenue Milk Bar\, 116 Fordham Ave\, Camberwell\, VIC\, 3124\, Australia
CATEGORIES:Social
ORGANIZER;CN="Jacquie Richardson":MAILTO:jacqg@hotmail.com
END:VEVENT
BEGIN:VEVENT
DTSTART;VALUE=DATE:20170716
DTEND;VALUE=DATE:20170717
DTSTAMP:20260422T072725
CREATED:20170220T163921Z
LAST-MODIFIED:20170220T163921Z
UID:1059-1500163200-1500249599@camberwellsharks.com.au
SUMMARY:Round 11
DESCRIPTION:
URL:https://camberwellsharks.com.au/event/round-11-2/
LOCATION:Lynden Park\, Lynden Park\, Camberwell\, VIC\, 3124\, Australia
CATEGORIES:League
ORGANIZER;CN="Gavin Roker":MAILTO:groker@bigpond.net.au
END:VEVENT
BEGIN:VEVENT
DTSTART;VALUE=DATE:20170702
DTEND;VALUE=DATE:20170703
DTSTAMP:20260422T072725
CREATED:20170220T163833Z
LAST-MODIFIED:20170220T163848Z
UID:1057-1498953600-1499039999@camberwellsharks.com.au
SUMMARY:Round 10
DESCRIPTION:
URL:https://camberwellsharks.com.au/event/round-10-2/
LOCATION:Lynden Park\, Lynden Park\, Camberwell\, VIC\, 3124\, Australia
CATEGORIES:League
ORGANIZER;CN="Gavin Roker":MAILTO:groker@bigpond.net.au
END:VEVENT
BEGIN:VEVENT
DTSTART;TZID=UTC:20170625T173000
DTEND;TZID=UTC:20170625T193000
DTSTAMP:20260422T072725
CREATED:20170220T155700Z
LAST-MODIFIED:20170220T155700Z
UID:1033-1498411800-1498419000@camberwellsharks.com.au
SUMMARY:Medal Night 2
DESCRIPTION:Pizzas\, sausage sizzle\, drinks & guest speaker. Get down to the club for a game day debrief with fellow Sharks.
URL:https://camberwellsharks.com.au/event/medal-night-2-2/
LOCATION:Lynden Park\, Lynden Park\, Camberwell\, VIC\, 3124\, Australia
CATEGORIES:Social
ORGANIZER;CN="Miles Beamish":MAILTO:miles@finlease.com.au
END:VEVENT
BEGIN:VEVENT
DTSTART;VALUE=DATE:20170625
DTEND;VALUE=DATE:20170626
DTSTAMP:20260422T072725
CREATED:20170220T163752Z
LAST-MODIFIED:20170220T163752Z
UID:1055-1498348800-1498435199@camberwellsharks.com.au
SUMMARY:Round 9
DESCRIPTION:
URL:https://camberwellsharks.com.au/event/round-9-2/
LOCATION:Lynden Park\, Lynden Park\, Camberwell\, VIC\, 3124\, Australia
CATEGORIES:League
ORGANIZER;CN="Gavin Roker":MAILTO:groker@bigpond.net.au
END:VEVENT
BEGIN:VEVENT
DTSTART;TZID=UTC:20170619T193000
DTEND;TZID=UTC:20170619T213000
DTSTAMP:20260422T072725
CREATED:20170219T225408Z
LAST-MODIFIED:20170219T230024Z
UID:1002-1497900600-1497907800@camberwellsharks.com.au
SUMMARY:Committee Meeting
DESCRIPTION:
URL:https://camberwellsharks.com.au/event/committee-meeting-9/
LOCATION:Lynden Park\, Lynden Park\, Camberwell\, VIC\, 3124\, Australia
CATEGORIES:Committee
ATTACH;FMTTYPE=image/jpeg:https://camberwellsharks.com.au/wp-content/uploads/2017/02/sharks-logo.jpg
END:VEVENT
BEGIN:VEVENT
DTSTART;VALUE=DATE:20170618
DTEND;VALUE=DATE:20170619
DTSTAMP:20260422T072725
CREATED:20170220T163720Z
LAST-MODIFIED:20170220T163720Z
UID:1053-1497744000-1497830399@camberwellsharks.com.au
SUMMARY:Round 8
DESCRIPTION:
URL:https://camberwellsharks.com.au/event/round-8-2/
LOCATION:Lynden Park\, Lynden Park\, Camberwell\, VIC\, 3124\, Australia
CATEGORIES:League
ORGANIZER;CN="Gavin Roker":MAILTO:groker@bigpond.net.au
END:VEVENT
BEGIN:VEVENT
DTSTART;TZID=UTC:20170614T193000
DTEND;TZID=UTC:20170614T213000
DTSTAMP:20260422T072725
CREATED:20170516T190321Z
LAST-MODIFIED:20170516T190321Z
UID:1832-1497468600-1497475800@camberwellsharks.com.au
SUMMARY:Sponsor's Night
DESCRIPTION:
URL:https://camberwellsharks.com.au/event/sponsors-night/
LOCATION:Sharks Clubrooms\, Lynden Park\, Lynden St\, Camberwell\, VIC\, 3124\, Australia
CATEGORIES:Committee
ORGANIZER;CN="Miles Beamish":MAILTO:miles@finlease.com.au
END:VEVENT
BEGIN:VEVENT
DTSTART;TZID=UTC:20170604T080000
DTEND;TZID=UTC:20170604T170000
DTSTAMP:20260422T072725
CREATED:20170220T162905Z
LAST-MODIFIED:20170220T162905Z
UID:1048-1496563200-1496595600@camberwellsharks.com.au
SUMMARY:Club Photo Day
DESCRIPTION:
URL:https://camberwellsharks.com.au/event/club-photo-day/
LOCATION:Lynden Park\, Lynden Park\, Camberwell\, VIC\, 3124\, Australia
CATEGORIES:Club
END:VEVENT
BEGIN:VEVENT
DTSTART;TZID=UTC:20170604T080000
DTEND;TZID=UTC:20170604T170000
DTSTAMP:20260422T072725
CREATED:20170220T162529Z
LAST-MODIFIED:20170220T162529Z
UID:1046-1496563200-1496595600@camberwellsharks.com.au
SUMMARY:Round 7
DESCRIPTION:
URL:https://camberwellsharks.com.au/event/round-7-2/
LOCATION:Lynden Park\, Lynden Park\, Camberwell\, VIC\, 3124\, Australia
CATEGORIES:League
ORGANIZER;CN="Gavin Roker":MAILTO:groker@bigpond.net.au
END:VEVENT
BEGIN:VEVENT
DTSTART;TZID=UTC:20170528T080000
DTEND;TZID=UTC:20170528T170000
DTSTAMP:20260422T072725
CREATED:20170220T162335Z
LAST-MODIFIED:20170220T162335Z
UID:1044-1495958400-1495990800@camberwellsharks.com.au
SUMMARY:Round 6
DESCRIPTION:
URL:https://camberwellsharks.com.au/event/round-6-2/
LOCATION:Lynden Park\, Lynden Park\, Camberwell\, VIC\, 3124\, Australia
CATEGORIES:League
ORGANIZER;CN="Gavin Roker":MAILTO:groker@bigpond.net.au
END:VEVENT
BEGIN:VEVENT
DTSTART;VALUE=DATE:20170528
DTEND;VALUE=DATE:20170529
DTSTAMP:20260422T072725
CREATED:20170220T111633Z
LAST-MODIFIED:20170220T111633Z
UID:1028-1495929600-1496015999@camberwellsharks.com.au
SUMMARY:U9s Carnival Day
DESCRIPTION:
URL:https://camberwellsharks.com.au/event/u9s-carnival-day/
LOCATION:YJFL\, Bulleen Park Oval no. 1\, Bulleen Road\, Bulleen\, VIC\, 3105\, Australia
CATEGORIES:League
ORGANIZER;CN="Gavin Roker":MAILTO:groker@bigpond.net.au
END:VEVENT
BEGIN:VEVENT
DTSTART;TZID=UTC:20170521T173000
DTEND;TZID=UTC:20170521T200000
DTSTAMP:20260422T072725
CREATED:20170220T155355Z
LAST-MODIFIED:20170220T155355Z
UID:1030-1495387800-1495396800@camberwellsharks.com.au
SUMMARY:Medal Night 1
DESCRIPTION:Pizza\, sausages\, drinks & guest speaker. Make sure you get down for a game day debrief with fellow Sharks.
URL:https://camberwellsharks.com.au/event/medal-night-1/
LOCATION:Lynden Park\, Lynden Park\, Camberwell\, VIC\, 3124\, Australia
CATEGORIES:Social
ORGANIZER;CN="Miles Beamish":MAILTO:miles@finlease.com.au
END:VEVENT
END:VCALENDAR