BEGIN:VCALENDAR
VERSION:2.0
PRODID:-//Camberwell Sharks - ECPv6.15.20//NONSGML v1.0//EN
CALSCALE:GREGORIAN
METHOD:PUBLISH
X-WR-CALNAME:Camberwell Sharks
X-ORIGINAL-URL:https://camberwellsharks.com.au
X-WR-CALDESC:Events for Camberwell Sharks
REFRESH-INTERVAL;VALUE=DURATION:PT1H
X-Robots-Tag:noindex
X-PUBLISHED-TTL:PT1H
BEGIN:VTIMEZONE
TZID:UTC
BEGIN:STANDARD
TZOFFSETFROM:+0000
TZOFFSETTO:+0000
TZNAME:UTC
DTSTART:20150101T000000
END:STANDARD
END:VTIMEZONE
BEGIN:VTIMEZONE
TZID:Australia/Melbourne
BEGIN:STANDARD
TZOFFSETFROM:+1100
TZOFFSETTO:+1000
TZNAME:AEST
DTSTART:20150404T160000
END:STANDARD
BEGIN:DAYLIGHT
TZOFFSETFROM:+1000
TZOFFSETTO:+1100
TZNAME:AEDT
DTSTART:20151003T160000
END:DAYLIGHT
BEGIN:STANDARD
TZOFFSETFROM:+1100
TZOFFSETTO:+1000
TZNAME:AEST
DTSTART:20160402T160000
END:STANDARD
BEGIN:DAYLIGHT
TZOFFSETFROM:+1000
TZOFFSETTO:+1100
TZNAME:AEDT
DTSTART:20161001T160000
END:DAYLIGHT
BEGIN:STANDARD
TZOFFSETFROM:+1100
TZOFFSETTO:+1000
TZNAME:AEST
DTSTART:20170401T160000
END:STANDARD
BEGIN:DAYLIGHT
TZOFFSETFROM:+1000
TZOFFSETTO:+1100
TZNAME:AEDT
DTSTART:20170930T160000
END:DAYLIGHT
END:VTIMEZONE
BEGIN:VEVENT
DTSTART;TZID=UTC:20170402T081500
DTEND;TZID=UTC:20170402T153000
DTSTAMP:20260422T201927
CREATED:20170219T133908Z
LAST-MODIFIED:20170219T134031Z
UID:990-1491120900-1491147000@camberwellsharks.com.au
SUMMARY:2017 Practice Matches v Glen Iris
DESCRIPTION:
URL:https://camberwellsharks.com.au/event/2017-practice-matches-v-glen-iris/
LOCATION:Lynden Park\, Lynden Park\, Camberwell\, VIC\, 3124\, Australia
CATEGORIES:Club
ORGANIZER;CN="Gavin Roker":MAILTO:groker@bigpond.net.au
END:VEVENT
BEGIN:VEVENT
DTSTART;TZID=UTC:20170329T190000
DTEND;TZID=UTC:20170329T210000
DTSTAMP:20260422T201927
CREATED:20170220T105737Z
LAST-MODIFIED:20170220T105753Z
UID:1011-1490814000-1490821200@camberwellsharks.com.au
SUMMARY:U10 Coaches Meeting
DESCRIPTION:Precise time & venue info unknown at this time.
URL:https://camberwellsharks.com.au/event/1011/
LOCATION:Lynden Park\, Lynden Park\, Camberwell\, VIC\, 3124\, Australia
END:VEVENT
BEGIN:VEVENT
DTSTART;TZID=UTC:20170328T190000
DTEND;TZID=UTC:20170328T210000
DTSTAMP:20260422T201927
CREATED:20170220T105644Z
LAST-MODIFIED:20170220T105644Z
UID:1008-1490727600-1490734800@camberwellsharks.com.au
SUMMARY:U8 & U9 Coaches Meeting
DESCRIPTION:Precise time and venue details unknown at this time.
URL:https://camberwellsharks.com.au/event/u8-u9-coaches-meeting/
LOCATION:Lynden Park\, Lynden Park\, Camberwell\, VIC\, 3124\, Australia
CATEGORIES:Club
END:VEVENT
BEGIN:VEVENT
DTSTART;TZID=UTC:20170327T193000
DTEND;TZID=UTC:20170327T213000
DTSTAMP:20260422T201927
CREATED:20170219T224234Z
LAST-MODIFIED:20170219T224234Z
UID:998-1490643000-1490650200@camberwellsharks.com.au
SUMMARY:Committee Meeting
DESCRIPTION:
URL:https://camberwellsharks.com.au/event/committee-meeting-7/
LOCATION:Sharks Clubrooms\, Lynden Park\, Lynden St\, Camberwell\, VIC\, 3124\, Australia
CATEGORIES:Committee
ATTACH;FMTTYPE=image/jpeg:https://camberwellsharks.com.au/wp-content/uploads/2017/02/sharks-logo.jpg
END:VEVENT
BEGIN:VEVENT
DTSTART;TZID=UTC:20170305T100000
DTEND;TZID=UTC:20170305T130000
DTSTAMP:20260422T201927
CREATED:20170108T131830Z
LAST-MODIFIED:20170108T131830Z
UID:929-1488708000-1488718800@camberwellsharks.com.au
SUMMARY:Merchandise Day
DESCRIPTION:More info to come.
URL:https://camberwellsharks.com.au/event/merchandise-day/
LOCATION:Lynden Park\, Lynden Park\, Camberwell\, VIC\, 3124\, Australia
CATEGORIES:Club
END:VEVENT
BEGIN:VEVENT
DTSTART;TZID=UTC:20170226T140000
DTEND;TZID=UTC:20170226T160000
DTSTAMP:20260422T201927
CREATED:20170215T021022Z
LAST-MODIFIED:20170219T135741Z
UID:968-1488117600-1488124800@camberwellsharks.com.au
SUMMARY:Girls Footy Have a Go Day
DESCRIPTION:
URL:https://camberwellsharks.com.au/event/girls-footy-have-a-go-day/
LOCATION:Lynden Park\, Lynden Park\, Camberwell\, VIC\, 3124\, Australia
CATEGORIES:Club
ORGANIZER;CN="Alexis Varkanis":MAILTO:alexiav137@gmail.com
END:VEVENT
BEGIN:VEVENT
DTSTART;TZID=UTC:20170220T193000
DTEND;TZID=UTC:20170220T213000
DTSTAMP:20260422T201927
CREATED:20170219T223832Z
LAST-MODIFIED:20170219T223832Z
UID:994-1487619000-1487626200@camberwellsharks.com.au
SUMMARY:Committee Meeting
DESCRIPTION:
URL:https://camberwellsharks.com.au/event/committee-meeting-6/
LOCATION:Sharks Clubrooms\, Lynden Park\, Lynden St\, Camberwell\, VIC\, 3124\, Australia
CATEGORIES:Committee
ATTACH;FMTTYPE=image/jpeg:https://camberwellsharks.com.au/wp-content/uploads/2017/02/sharks-logo.jpg
END:VEVENT
BEGIN:VEVENT
DTSTART;TZID=UTC:20170205T090000
DTEND;TZID=UTC:20170205T210000
DTSTAMP:20260422T201927
CREATED:20170108T131708Z
LAST-MODIFIED:20170108T131708Z
UID:927-1486285200-1486328400@camberwellsharks.com.au
SUMMARY:New Player Registration Day
DESCRIPTION:See Registrations tab for details.
URL:https://camberwellsharks.com.au/event/new-player-registration-day-2/
LOCATION:Online
CATEGORIES:Club
ORGANIZER;CN="Brian Harriss":MAILTO:registrar@camberwellsharks.com.au
END:VEVENT
BEGIN:VEVENT
DTSTART;TZID=UTC:20170104T080000
DTEND;TZID=UTC:20170131T235500
DTSTAMP:20260422T201927
CREATED:20170108T131555Z
LAST-MODIFIED:20170123T163912Z
UID:924-1483516800-1485906900@camberwellsharks.com.au
SUMMARY:Priority Registration Period for Returning Players
DESCRIPTION:See club email and Registration tab for details or use this link if you are a Returning Player https://membership.sportstg.com/regoform.cgi?aID=5165&pKey=2e916e3a2418111d533a5a763b1e9993&cID=11761&formID=36056
URL:https://camberwellsharks.com.au/event/priority-registration-period-for-returning-players/
LOCATION:Online
CATEGORIES:Club
ORGANIZER;CN="Brian Harriss":MAILTO:registrar@camberwellsharks.com.au
END:VEVENT
BEGIN:VEVENT
DTSTART;TZID=UTC:20161109T073000
DTEND;TZID=UTC:20161109T220000
DTSTAMP:20260422T201927
CREATED:20160320T001457Z
LAST-MODIFIED:20160320T001457Z
UID:739-1478676600-1478728800@camberwellsharks.com.au
SUMMARY:Sharks AGM
DESCRIPTION:All welcome.
URL:https://camberwellsharks.com.au/event/sharks-agm-2/
LOCATION:Sharks Clubrooms\, Lynden Park\, Lynden St\, Camberwell\, VIC\, 3124\, Australia
CATEGORIES:Committee
END:VEVENT
BEGIN:VEVENT
DTSTART;TZID=UTC:20160828T170000
DTEND;TZID=UTC:20160828T200000
DTSTAMP:20260422T201927
CREATED:20151126T172505Z
LAST-MODIFIED:20151126T172505Z
UID:519-1472403600-1472414400@camberwellsharks.com.au
SUMMARY:Sharks Presentation Night
DESCRIPTION:
URL:https://camberwellsharks.com.au/event/sharks-presentation-night/
LOCATION:Sharks Clubrooms\, Lynden Park\, Lynden St\, Camberwell\, VIC\, 3124\, Australia
END:VEVENT
BEGIN:VEVENT
DTSTART;VALUE=DATE:20160828
DTEND;VALUE=DATE:20160829
DTSTAMP:20260422T201927
CREATED:20151126T172348Z
LAST-MODIFIED:20151126T172348Z
UID:518-1472342400-1472428799@camberwellsharks.com.au
SUMMARY:Grand Final
DESCRIPTION:
URL:https://camberwellsharks.com.au/event/grand-final/
LOCATION:VIC
END:VEVENT
BEGIN:VEVENT
DTSTART;TZID=UTC:20160823T180000
DTEND;TZID=UTC:20160823T220000
DTSTAMP:20260422T201927
CREATED:20160319T231745Z
LAST-MODIFIED:20160319T231745Z
UID:723-1471975200-1471989600@camberwellsharks.com.au
SUMMARY:YJFL Presentation Night
DESCRIPTION:Exact time & location unnown at this point. Invitees will be advised by the club closer the date.
URL:https://camberwellsharks.com.au/event/yjfl-presentation-night/
LOCATION:VIC
END:VEVENT
BEGIN:VEVENT
DTSTART;VALUE=DATE:20160821
DTEND;VALUE=DATE:20160822
DTSTAMP:20260422T201927
CREATED:20151126T172257Z
LAST-MODIFIED:20151126T172257Z
UID:517-1471737600-1471823999@camberwellsharks.com.au
SUMMARY:Preliminary Finals
DESCRIPTION:
URL:https://camberwellsharks.com.au/event/preliminary-finals/
LOCATION:VIC
END:VEVENT
BEGIN:VEVENT
DTSTART;VALUE=DATE:20160814
DTEND;VALUE=DATE:20160815
DTSTAMP:20260422T201927
CREATED:20151126T172223Z
LAST-MODIFIED:20151126T172223Z
UID:516-1471132800-1471219199@camberwellsharks.com.au
SUMMARY:Semi-Finals
DESCRIPTION:
URL:https://camberwellsharks.com.au/event/semi-finals/
LOCATION:VIC
END:VEVENT
BEGIN:VEVENT
DTSTART;TZID=UTC:20160807T173000
DTEND;TZID=UTC:20160807T193000
DTSTAMP:20260422T201927
CREATED:20160320T001238Z
LAST-MODIFIED:20160320T001238Z
UID:738-1470591000-1470598200@camberwellsharks.com.au
SUMMARY:Medal Night
DESCRIPTION:
URL:https://camberwellsharks.com.au/event/medal-night-5/
LOCATION:Sharks Clubrooms\, Lynden Park\, Lynden St\, Camberwell\, VIC\, 3124\, Australia
CATEGORIES:Social
ORGANIZER;CN="Miles Beamish":MAILTO:miles@finlease.com.au
END:VEVENT
BEGIN:VEVENT
DTSTART;VALUE=DATE:20160807
DTEND;VALUE=DATE:20160808
DTSTAMP:20260422T201927
CREATED:20151126T172141Z
LAST-MODIFIED:20151126T172141Z
UID:515-1470528000-1470614399@camberwellsharks.com.au
SUMMARY:Round 15
DESCRIPTION:
URL:https://camberwellsharks.com.au/event/round-15/
LOCATION:Lynden Park\, Lynden Park\, Camberwell\, VIC\, 3124\, Australia
END:VEVENT
BEGIN:VEVENT
DTSTART;TZID=Australia/Melbourne:20160805T123000
DTEND;TZID=Australia/Melbourne:20160805T170000
DTSTAMP:20260422T201927
CREATED:20150903T152203Z
LAST-MODIFIED:20150907T013515Z
UID:337-1470400200-1470416400@camberwellsharks.com.au
SUMMARY:Sharks Sportsman's Lunch
DESCRIPTION:
URL:https://camberwellsharks.com.au/event/sharks-sportsmans-lunch/
LOCATION:The Kingston Hotel\, 55 Highett St\, Richmond\, VIC\, 3121\, Australia
CATEGORIES:Social
ATTACH;FMTTYPE=image/jpeg:https://camberwellsharks.com.au/wp-content/uploads/2015/09/sportsmans.jpg
END:VEVENT
BEGIN:VEVENT
DTSTART;TZID=UTC:20160801T073000
DTEND;TZID=UTC:20160801T213000
DTSTAMP:20260422T201927
CREATED:20160320T001120Z
LAST-MODIFIED:20160320T001120Z
UID:737-1470036600-1470087000@camberwellsharks.com.au
SUMMARY:Committee Meeting
DESCRIPTION:
URL:https://camberwellsharks.com.au/event/committee-meeting-5/
LOCATION:Sharks Clubrooms\, Lynden Park\, Lynden St\, Camberwell\, VIC\, 3124\, Australia
CATEGORIES:Committee
END:VEVENT
BEGIN:VEVENT
DTSTART;VALUE=DATE:20160731
DTEND;VALUE=DATE:20160801
DTSTAMP:20260422T201927
CREATED:20151126T172100Z
LAST-MODIFIED:20151126T172111Z
UID:514-1469923200-1470009599@camberwellsharks.com.au
SUMMARY:Round 14
DESCRIPTION:
URL:https://camberwellsharks.com.au/event/round-14/
LOCATION:Lynden Park\, Lynden Park\, Camberwell\, VIC\, 3124\, Australia
END:VEVENT
BEGIN:VEVENT
DTSTART;TZID=UTC:20160724T180000
DTEND;TZID=UTC:20160724T230000
DTSTAMP:20260422T201927
CREATED:20160613T153215Z
LAST-MODIFIED:20160613T153215Z
UID:864-1469383200-1469401200@camberwellsharks.com.au
SUMMARY:Women's Cocktail Evening
DESCRIPTION:Book here! \nWe are delighted to announce that we have organised a women’s function for our football club.  On Sunday\, 24th July we are holding a cocktail evening for all female members of our Sharks community over the age of 18.  The invitation for a fun evening of drinks and nibbles is attached.  We would like to sincerely thank Nikki Harkin for organising this event for the ladies of our Club.  Nikki has organised the venue and entertainment (and a couple of extra surprises too).  If you have any queries\, please feel free to contact Nikki\, her mobile phone number is included on the invitation. \n  \nWe hope to see you there.
URL:https://camberwellsharks.com.au/event/womens-cocktail-evening/
LOCATION:Prohibition Food & wine\, 1395 Toorak Rd\, Camberwell\, Victoria\, 3124\, Australia
CATEGORIES:Social
END:VEVENT
BEGIN:VEVENT
DTSTART;VALUE=DATE:20160724
DTEND;VALUE=DATE:20160725
DTSTAMP:20260422T201927
CREATED:20151126T172013Z
LAST-MODIFIED:20151126T172013Z
UID:513-1469318400-1469404799@camberwellsharks.com.au
SUMMARY:Round 13
DESCRIPTION:
URL:https://camberwellsharks.com.au/event/round-13/
LOCATION:VIC
END:VEVENT
BEGIN:VEVENT
DTSTART;TZID=UTC:20160717T173000
DTEND;TZID=UTC:20160717T193000
DTSTAMP:20260422T201927
CREATED:20160320T001022Z
LAST-MODIFIED:20160320T001022Z
UID:735-1468776600-1468783800@camberwellsharks.com.au
SUMMARY:Medal Night
DESCRIPTION:
URL:https://camberwellsharks.com.au/event/medal-night-4/
LOCATION:Sharks Clubrooms\, Lynden Park\, Lynden St\, Camberwell\, VIC\, 3124\, Australia
CATEGORIES:Social
ORGANIZER;CN="Miles Beamish":MAILTO:miles@finlease.com.au
END:VEVENT
BEGIN:VEVENT
DTSTART;VALUE=DATE:20160717
DTEND;VALUE=DATE:20160718
DTSTAMP:20260422T201927
CREATED:20151126T171939Z
LAST-MODIFIED:20151126T171939Z
UID:512-1468713600-1468799999@camberwellsharks.com.au
SUMMARY:Round 12
DESCRIPTION:
URL:https://camberwellsharks.com.au/event/round-12/
LOCATION:VIC
END:VEVENT
BEGIN:VEVENT
DTSTART;TZID=UTC:20160711T193000
DTEND;TZID=UTC:20160711T213000
DTSTAMP:20260422T201927
CREATED:20160320T000852Z
LAST-MODIFIED:20160320T000852Z
UID:734-1468265400-1468272600@camberwellsharks.com.au
SUMMARY:Committee Meeting
DESCRIPTION:
URL:https://camberwellsharks.com.au/event/committee-meeting-4/
LOCATION:Sharks Clubrooms\, Lynden Park\, Lynden St\, Camberwell\, VIC\, 3124\, Australia
CATEGORIES:Committee
END:VEVENT
BEGIN:VEVENT
DTSTART;VALUE=DATE:20160710
DTEND;VALUE=DATE:20160711
DTSTAMP:20260422T201927
CREATED:20151126T171902Z
LAST-MODIFIED:20151126T171902Z
UID:511-1468108800-1468195199@camberwellsharks.com.au
SUMMARY:Round 11
DESCRIPTION:
URL:https://camberwellsharks.com.au/event/round-11/
LOCATION:Lynden Park\, Lynden Park\, Camberwell\, VIC\, 3124\, Australia
END:VEVENT
BEGIN:VEVENT
DTSTART;VALUE=DATE:20160626
DTEND;VALUE=DATE:20160627
DTSTAMP:20260422T201927
CREATED:20151126T171637Z
LAST-MODIFIED:20151126T171637Z
UID:510-1466899200-1466985599@camberwellsharks.com.au
SUMMARY:Round 10
DESCRIPTION:
URL:https://camberwellsharks.com.au/event/round-10/
LOCATION:Lynden Park\, Lynden Park\, Camberwell\, VIC\, 3124\, Australia
END:VEVENT
BEGIN:VEVENT
DTSTART;TZID=UTC:20160619T173000
DTEND;TZID=UTC:20160619T193000
DTSTAMP:20260422T201927
CREATED:20160320T000413Z
LAST-MODIFIED:20160320T000413Z
UID:731-1466357400-1466364600@camberwellsharks.com.au
SUMMARY:Medal Night
DESCRIPTION:
URL:https://camberwellsharks.com.au/event/medal-night-3/
LOCATION:Sharks Clubrooms\, Lynden Park\, Lynden St\, Camberwell\, VIC\, 3124\, Australia
END:VEVENT
BEGIN:VEVENT
DTSTART;VALUE=DATE:20160619
DTEND;VALUE=DATE:20160620
DTSTAMP:20260422T201927
CREATED:20151126T163008Z
LAST-MODIFIED:20151126T163008Z
UID:509-1466294400-1466380799@camberwellsharks.com.au
SUMMARY:Round 9
DESCRIPTION:
URL:https://camberwellsharks.com.au/event/round-9/
LOCATION:Lynden Park\, Lynden Park\, Camberwell\, VIC\, 3124\, Australia
END:VEVENT
BEGIN:VEVENT
DTSTART;TZID=UTC:20160606T193000
DTEND;TZID=UTC:20160606T213000
DTSTAMP:20260422T201927
CREATED:20160320T000622Z
LAST-MODIFIED:20160320T000650Z
UID:732-1465241400-1465248600@camberwellsharks.com.au
SUMMARY:Committee Meeting
DESCRIPTION:
URL:https://camberwellsharks.com.au/event/committee-meeting-3/
LOCATION:Sharks Clubrooms\, Lynden Park\, Lynden St\, Camberwell\, VIC\, 3124\, Australia
CATEGORIES:Committee
END:VEVENT
END:VCALENDAR