BEGIN:VCALENDAR
VERSION:2.0
PRODID:-//Camberwell Sharks - ECPv6.15.20//NONSGML v1.0//EN
CALSCALE:GREGORIAN
METHOD:PUBLISH
X-ORIGINAL-URL:https://camberwellsharks.com.au
X-WR-CALDESC:Events for Camberwell Sharks
REFRESH-INTERVAL;VALUE=DURATION:PT1H
X-Robots-Tag:noindex
X-PUBLISHED-TTL:PT1H
BEGIN:VTIMEZONE
TZID:UTC
BEGIN:STANDARD
TZOFFSETFROM:+0000
TZOFFSETTO:+0000
TZNAME:UTC
DTSTART:20150101T000000
END:STANDARD
END:VTIMEZONE
BEGIN:VTIMEZONE
TZID:Australia/Melbourne
BEGIN:STANDARD
TZOFFSETFROM:+1100
TZOFFSETTO:+1000
TZNAME:AEST
DTSTART:20140405T160000
END:STANDARD
BEGIN:DAYLIGHT
TZOFFSETFROM:+1000
TZOFFSETTO:+1100
TZNAME:AEDT
DTSTART:20141004T160000
END:DAYLIGHT
BEGIN:STANDARD
TZOFFSETFROM:+1100
TZOFFSETTO:+1000
TZNAME:AEST
DTSTART:20150404T160000
END:STANDARD
BEGIN:DAYLIGHT
TZOFFSETFROM:+1000
TZOFFSETTO:+1100
TZNAME:AEDT
DTSTART:20151003T160000
END:DAYLIGHT
BEGIN:STANDARD
TZOFFSETFROM:+1100
TZOFFSETTO:+1000
TZNAME:AEST
DTSTART:20160402T160000
END:STANDARD
BEGIN:DAYLIGHT
TZOFFSETFROM:+1000
TZOFFSETTO:+1100
TZNAME:AEDT
DTSTART:20161001T160000
END:DAYLIGHT
END:VTIMEZONE
BEGIN:VEVENT
DTSTART;VALUE=DATE:20160710
DTEND;VALUE=DATE:20160711
DTSTAMP:20260422T091123
CREATED:20151126T171902Z
LAST-MODIFIED:20151126T171902Z
UID:511-1468108800-1468195199@camberwellsharks.com.au
SUMMARY:Round 11
DESCRIPTION:
URL:https://camberwellsharks.com.au/event/round-11/
LOCATION:Lynden Park\, Lynden Park\, Camberwell\, VIC\, 3124\, Australia
END:VEVENT
BEGIN:VEVENT
DTSTART;VALUE=DATE:20160626
DTEND;VALUE=DATE:20160627
DTSTAMP:20260422T091123
CREATED:20151126T171637Z
LAST-MODIFIED:20151126T171637Z
UID:510-1466899200-1466985599@camberwellsharks.com.au
SUMMARY:Round 10
DESCRIPTION:
URL:https://camberwellsharks.com.au/event/round-10/
LOCATION:Lynden Park\, Lynden Park\, Camberwell\, VIC\, 3124\, Australia
END:VEVENT
BEGIN:VEVENT
DTSTART;TZID=UTC:20160619T173000
DTEND;TZID=UTC:20160619T193000
DTSTAMP:20260422T091123
CREATED:20160320T000413Z
LAST-MODIFIED:20160320T000413Z
UID:731-1466357400-1466364600@camberwellsharks.com.au
SUMMARY:Medal Night
DESCRIPTION:
URL:https://camberwellsharks.com.au/event/medal-night-3/
LOCATION:Sharks Clubrooms\, Lynden Park\, Lynden St\, Camberwell\, VIC\, 3124\, Australia
END:VEVENT
BEGIN:VEVENT
DTSTART;VALUE=DATE:20160619
DTEND;VALUE=DATE:20160620
DTSTAMP:20260422T091123
CREATED:20151126T163008Z
LAST-MODIFIED:20151126T163008Z
UID:509-1466294400-1466380799@camberwellsharks.com.au
SUMMARY:Round 9
DESCRIPTION:
URL:https://camberwellsharks.com.au/event/round-9/
LOCATION:Lynden Park\, Lynden Park\, Camberwell\, VIC\, 3124\, Australia
END:VEVENT
BEGIN:VEVENT
DTSTART;TZID=UTC:20160606T193000
DTEND;TZID=UTC:20160606T213000
DTSTAMP:20260422T091123
CREATED:20160320T000622Z
LAST-MODIFIED:20160320T000650Z
UID:732-1465241400-1465248600@camberwellsharks.com.au
SUMMARY:Committee Meeting
DESCRIPTION:
URL:https://camberwellsharks.com.au/event/committee-meeting-3/
LOCATION:Sharks Clubrooms\, Lynden Park\, Lynden St\, Camberwell\, VIC\, 3124\, Australia
CATEGORIES:Committee
END:VEVENT
BEGIN:VEVENT
DTSTART;VALUE=DATE:20160605
DTEND;VALUE=DATE:20160606
DTSTAMP:20260422T091123
CREATED:20151126T162928Z
LAST-MODIFIED:20151126T162928Z
UID:508-1465084800-1465171199@camberwellsharks.com.au
SUMMARY:Round 8
DESCRIPTION:
URL:https://camberwellsharks.com.au/event/round-8/
LOCATION:Lynden Park\, Lynden Park\, Camberwell\, VIC\, 3124\, Australia
END:VEVENT
BEGIN:VEVENT
DTSTART;VALUE=DATE:20160529
DTEND;VALUE=DATE:20160530
DTSTAMP:20260422T091123
CREATED:20151126T162837Z
LAST-MODIFIED:20151126T162837Z
UID:507-1464480000-1464566399@camberwellsharks.com.au
SUMMARY:Round 7
DESCRIPTION:
URL:https://camberwellsharks.com.au/event/round-7/
LOCATION:Lynden Park\, Lynden Park\, Camberwell\, VIC\, 3124\, Australia
END:VEVENT
BEGIN:VEVENT
DTSTART;VALUE=DATE:20160522
DTEND;VALUE=DATE:20160523
DTSTAMP:20260422T091123
CREATED:20160320T000255Z
LAST-MODIFIED:20160320T000255Z
UID:730-1463875200-1463961599@camberwellsharks.com.au
SUMMARY:U8s Carnival
DESCRIPTION:
URL:https://camberwellsharks.com.au/event/u8s-carnival/
LOCATION:YJFL\, Bulleen Park Oval no. 1\, Bulleen Road\, Bulleen\, VIC\, 3105\, Australia
CATEGORIES:League
END:VEVENT
BEGIN:VEVENT
DTSTART;VALUE=DATE:20160522
DTEND;VALUE=DATE:20160523
DTSTAMP:20260422T091123
CREATED:20151126T162734Z
LAST-MODIFIED:20151126T162734Z
UID:506-1463875200-1463961599@camberwellsharks.com.au
SUMMARY:Round 6
DESCRIPTION:
URL:https://camberwellsharks.com.au/event/round-6/
LOCATION:Lynden Park\, Lynden Park\, Camberwell\, VIC\, 3124\, Australia
END:VEVENT
BEGIN:VEVENT
DTSTART;TZID=UTC:20160515T173000
DTEND;TZID=UTC:20160515T193000
DTSTAMP:20260422T091123
CREATED:20160319T235956Z
LAST-MODIFIED:20160320T000006Z
UID:728-1463333400-1463340600@camberwellsharks.com.au
SUMMARY:Medal Night
DESCRIPTION:
URL:https://camberwellsharks.com.au/event/medal-night-2/
LOCATION:VIC
CATEGORIES:Social
END:VEVENT
BEGIN:VEVENT
DTSTART;VALUE=DATE:20160515
DTEND;VALUE=DATE:20160516
DTSTAMP:20260422T091123
CREATED:20151126T162656Z
LAST-MODIFIED:20151126T162656Z
UID:505-1463270400-1463356799@camberwellsharks.com.au
SUMMARY:Round 5
DESCRIPTION:
URL:https://camberwellsharks.com.au/event/round-5/
LOCATION:VIC
END:VEVENT
BEGIN:VEVENT
DTSTART;TZID=UTC:20160509T073000
DTEND;TZID=UTC:20160509T213000
DTSTAMP:20260422T091123
CREATED:20160320T000135Z
LAST-MODIFIED:20160320T000135Z
UID:729-1462779000-1462829400@camberwellsharks.com.au
SUMMARY:Committee Meeting
DESCRIPTION:
URL:https://camberwellsharks.com.au/event/committee-meeting-2/
LOCATION:Sharks Clubrooms\, Lynden Park\, Lynden St\, Camberwell\, VIC\, 3124\, Australia
CATEGORIES:Committee
END:VEVENT
BEGIN:VEVENT
DTSTART;VALUE=DATE:20160508
DTEND;VALUE=DATE:20160509
DTSTAMP:20260422T091123
CREATED:20151126T162618Z
LAST-MODIFIED:20151126T162618Z
UID:504-1462665600-1462751999@camberwellsharks.com.au
SUMMARY:Round 4
DESCRIPTION:
URL:https://camberwellsharks.com.au/event/round-4/
LOCATION:VIC
END:VEVENT
BEGIN:VEVENT
DTSTART;VALUE=DATE:20160501
DTEND;VALUE=DATE:20160502
DTSTAMP:20260422T091123
CREATED:20151126T162546Z
LAST-MODIFIED:20151126T162546Z
UID:503-1462060800-1462147199@camberwellsharks.com.au
SUMMARY:Round 3
DESCRIPTION:
URL:https://camberwellsharks.com.au/event/round-3/
LOCATION:VIC
END:VEVENT
BEGIN:VEVENT
DTSTART;TZID=UTC:20160425T060000
DTEND;TZID=UTC:20160425T110000
DTSTAMP:20260422T091123
CREATED:20160418T170827Z
LAST-MODIFIED:20160418T171045Z
UID:803-1461564000-1461582000@camberwellsharks.com.au
SUMMARY:Dawn Service & ANZAC Cup
DESCRIPTION:n 2016 for the first time\, the Camberwell Sharks U15 Girls side will contest against sides from East Malvern Knights\, Ashburton Redbacks and Glen Iris Gladiators for the ANZAC DAY CUP\, to be held at the grounds neighbouring the East Malvern RSL. \nThis initiative was developed as a community effort to bring the younger generation to the East Malvern RSL Dawn Service\, and hopes that it will help to keep a focus for the kids on the significance of Anzac day and the sacrifices made by Australian Service men and Women during war time. \nAll Sharks families are invited to attend the Dawn Service and support the Sharks later in the morning. \n6am – Dawn Service – Preference that all players and officials attend wearing (something warm) in their respective Club colours. This includes coaches and parents if possible. \n7.15am – all attendees of the service will be invited to join the rest of the community for the Gun barrel Breakfast. All attendees will be offered BBQ breakfast\, coffee and tea. A gold coin donation is requested for all of those who choose to eat. \n8am – teams will congregate on Stanley Grose Oval (immediately out the front of the RSL). At approximately 8.10am\, all players and coaches will be invited to form a Guard of Honour. There will be limited number of Service men and Women who will be invited to walk down the guard of honour\, shaking hands with the players and giving the kids the opportunity to show their respects. \n8.25am. The teams will then move to their respective grounds. The Under 15 Girls Games will be played at Stanley Grose Oval\, . \n8.30 – 8.40am – Games will commence.
URL:https://camberwellsharks.com.au/event/dawn-service-anzac-cup-6am-malvern-east-rsl/
LOCATION:Malvern East RSL\, Stanley Grose Drive\, Mlavern East\, VIC\, 3145\, Australia
CATEGORIES:Club,Social
ORGANIZER;CN="Kathryn George":MAILTO:calicoandchintz@bigpond.com
END:VEVENT
BEGIN:VEVENT
DTSTART;VALUE=DATE:20160424
DTEND;VALUE=DATE:20160425
DTSTAMP:20260422T091123
CREATED:20151126T162505Z
LAST-MODIFIED:20151126T162505Z
UID:502-1461456000-1461542399@camberwellsharks.com.au
SUMMARY:Round 2
DESCRIPTION:
URL:https://camberwellsharks.com.au/event/round-2/
LOCATION:Lynden Park\, Lynden Park\, Camberwell\, VIC\, 3124\, Australia
END:VEVENT
BEGIN:VEVENT
DTSTART;TZID=UTC:20160417T173000
DTEND;TZID=UTC:20160417T193000
DTSTAMP:20260422T091123
CREATED:20160319T232441Z
LAST-MODIFIED:20160320T002107Z
UID:727-1460914200-1460921400@camberwellsharks.com.au
SUMMARY:Season Launch
DESCRIPTION:Drinks\, BBQ\, guest speaker etc at the club. Come on down.
URL:https://camberwellsharks.com.au/event/season-launch/
LOCATION:Lynden Park\, Lynden Park\, Camberwell\, VIC\, 3124\, Australia
CATEGORIES:Social
END:VEVENT
BEGIN:VEVENT
DTSTART;VALUE=DATE:20160417
DTEND;VALUE=DATE:20160418
DTSTAMP:20260422T091123
CREATED:20151126T162011Z
LAST-MODIFIED:20151126T162011Z
UID:500-1460851200-1460937599@camberwellsharks.com.au
SUMMARY:Round 1
DESCRIPTION:
URL:https://camberwellsharks.com.au/event/round-1/
LOCATION:Lynden Park\, Lynden Park\, Camberwell\, VIC\, 3124\, Australia
END:VEVENT
BEGIN:VEVENT
DTSTART;TZID=UTC:20160413T160000
DTEND;TZID=UTC:20160413T200000
DTSTAMP:20260422T091123
CREATED:20160319T232142Z
LAST-MODIFIED:20160319T232142Z
UID:725-1460563200-1460577600@camberwellsharks.com.au
SUMMARY:U8 / U9 Round Robin
DESCRIPTION:contact Jacko for further details
URL:https://camberwellsharks.com.au/event/u8-u9-round-robin/
LOCATION:Lynden Park\, Lynden Park\, Camberwell\, VIC\, 3124\, Australia
CATEGORIES:Club
END:VEVENT
BEGIN:VEVENT
DTSTART;TZID=UTC:20160411T193000
DTEND;TZID=UTC:20160411T213000
DTSTAMP:20260422T091123
CREATED:20160319T232016Z
LAST-MODIFIED:20160319T232016Z
UID:724-1460403000-1460410200@camberwellsharks.com.au
SUMMARY:Committee Meeting
DESCRIPTION:
URL:https://camberwellsharks.com.au/event/committee-meeting/
LOCATION:Sharks Clubrooms\, Lynden Park\, Lynden St\, Camberwell\, VIC\, 3124\, Australia
CATEGORIES:Committee
END:VEVENT
BEGIN:VEVENT
DTSTART;VALUE=DATE:20160323
DTEND;VALUE=DATE:20160324
DTSTAMP:20260422T091123
CREATED:20160320T001908Z
LAST-MODIFIED:20160320T001908Z
UID:741-1458691200-1458777599@camberwellsharks.com.au
SUMMARY:Umpires' Briefing
DESCRIPTION:
URL:https://camberwellsharks.com.au/event/umpires-briefing/
LOCATION:Sharks Clubrooms\, Lynden Park\, Lynden St\, Camberwell\, VIC\, 3124\, Australia
CATEGORIES:Club
END:VEVENT
BEGIN:VEVENT
DTSTART;VALUE=DATE:20160322
DTEND;VALUE=DATE:20160323
DTSTAMP:20260422T091123
CREATED:20160320T001946Z
LAST-MODIFIED:20160320T002247Z
UID:743-1458604800-1458691199@camberwellsharks.com.au
SUMMARY:U10s Coaches Meeting
DESCRIPTION:
URL:https://camberwellsharks.com.au/event/u10s-coaches-meeting/
LOCATION:Sharks Clubrooms\, Lynden Park\, Lynden St\, Camberwell\, VIC\, 3124\, Australia
CATEGORIES:Club
END:VEVENT
BEGIN:VEVENT
DTSTART;TZID=UTC:20160321T193000
DTEND;TZID=UTC:20160321T210000
DTSTAMP:20260422T091123
CREATED:20160320T001755Z
LAST-MODIFIED:20160320T001755Z
UID:740-1458588600-1458594000@camberwellsharks.com.au
SUMMARY:Team Mgrs Meeting
DESCRIPTION:
URL:https://camberwellsharks.com.au/event/team-mgrs-meeting/
LOCATION:Sharks Clubrooms\, Lynden Park\, Lynden St\, Camberwell\, VIC\, 3124\, Australia
CATEGORIES:Club
END:VEVENT
BEGIN:VEVENT
DTSTART;TZID=UTC:20160221T100000
DTEND;TZID=UTC:20160221T130000
DTSTAMP:20260422T091123
CREATED:20151220T131705Z
LAST-MODIFIED:20160116T133131Z
UID:660-1456048800-1456059600@camberwellsharks.com.au
SUMMARY:Welcome Day
DESCRIPTION:The Sharks invite you to Welcome Day 2016\, Sunday 21st February from 10.00am – 1.00pm\, at the Lynden Park clubrooms. \nMerchandise sales\nprofessional Mouthguard fitment\nGuest Speaker\nmeet the club committee and coaches\nsausage sizzle\nfooty challenges\, and more. \nCome down for a kick and get an early taste of season 2016. \n(NOTE: This is not a Registration Day. All registrations are taken online and open in January for returning players\, and on Sunday February 7th for New Players. See the Registrations section of this website for further details.)
URL:https://camberwellsharks.com.au/event/welcome-day/
LOCATION:Sharks Clubrooms\, Lynden Park\, Lynden St\, Camberwell\, VIC\, 3124\, Australia
END:VEVENT
BEGIN:VEVENT
DTSTART;TZID=UTC:20160207T090000
DTEND;TZID=UTC:20160207T210000
DTSTAMP:20260422T091123
CREATED:20151126T172800Z
LAST-MODIFIED:20151126T173200Z
UID:521-1454835600-1454878800@camberwellsharks.com.au
SUMMARY:New Player Registration Day
DESCRIPTION:
URL:https://camberwellsharks.com.au/event/new-player-registration-day/
LOCATION:Online
END:VEVENT
BEGIN:VEVENT
DTSTART;VALUE=DATE:20160201
DTEND;VALUE=DATE:20160202
DTSTAMP:20260422T091123
CREATED:20151126T172845Z
LAST-MODIFIED:20151126T172845Z
UID:522-1454284800-1454371199@camberwellsharks.com.au
SUMMARY:Inter-club Transfers Open
DESCRIPTION:
URL:https://camberwellsharks.com.au/event/inter-club-transfers-open/
LOCATION:VIC
END:VEVENT
BEGIN:VEVENT
DTSTART;VALUE=DATE:20160104
DTEND;VALUE=DATE:20160105
DTSTAMP:20260422T091123
CREATED:20151126T172659Z
LAST-MODIFIED:20151126T172659Z
UID:520-1451865600-1451951999@camberwellsharks.com.au
SUMMARY:Returning Player Registrations Open
DESCRIPTION:
URL:https://camberwellsharks.com.au/event/returning-player-registrations-open/
LOCATION:Online
END:VEVENT
BEGIN:VEVENT
DTSTART;TZID=Australia/Melbourne:20151118T190000
DTEND;TZID=Australia/Melbourne:20151118T210000
DTSTAMP:20260422T091123
CREATED:20150904T154559Z
LAST-MODIFIED:20150904T155212Z
UID:373-1447873200-1447880400@camberwellsharks.com.au
SUMMARY:YJFL AGM
DESCRIPTION:Check exact times closer to the date.
URL:https://camberwellsharks.com.au/event/yjfl-agm/
LOCATION:YJFL\, Bulleen Park Oval no. 1\, Bulleen Road\, Bulleen\, VIC\, 3105\, Australia
CATEGORIES:League
END:VEVENT
BEGIN:VEVENT
DTSTART;TZID=Australia/Melbourne:20151116T190000
DTEND;TZID=Australia/Melbourne:20151116T210000
DTSTAMP:20260422T091123
CREATED:20150904T154105Z
LAST-MODIFIED:20150904T155051Z
UID:370-1447700400-1447707600@camberwellsharks.com.au
SUMMARY:Sharks AGM
DESCRIPTION:
URL:https://camberwellsharks.com.au/event/sharks-agm/
LOCATION:Sharks Clubrooms\, Lynden Park\, Lynden St\, Camberwell\, VIC\, 3124\, Australia
CATEGORIES:Committee
END:VEVENT
END:VCALENDAR