BEGIN:VCALENDAR
VERSION:2.0
PRODID:-//Camberwell Sharks - ECPv6.15.20//NONSGML v1.0//EN
CALSCALE:GREGORIAN
METHOD:PUBLISH
X-WR-CALNAME:Camberwell Sharks
X-ORIGINAL-URL:https://camberwellsharks.com.au
X-WR-CALDESC:Events for Camberwell Sharks
REFRESH-INTERVAL;VALUE=DURATION:PT1H
X-Robots-Tag:noindex
X-PUBLISHED-TTL:PT1H
BEGIN:VTIMEZONE
TZID:UTC
BEGIN:STANDARD
TZOFFSETFROM:+0000
TZOFFSETTO:+0000
TZNAME:UTC
DTSTART:20150101T000000
END:STANDARD
END:VTIMEZONE
BEGIN:VTIMEZONE
TZID:Australia/Melbourne
BEGIN:STANDARD
TZOFFSETFROM:+1100
TZOFFSETTO:+1000
TZNAME:AEST
DTSTART:20140405T160000
END:STANDARD
BEGIN:DAYLIGHT
TZOFFSETFROM:+1000
TZOFFSETTO:+1100
TZNAME:AEDT
DTSTART:20141004T160000
END:DAYLIGHT
BEGIN:STANDARD
TZOFFSETFROM:+1100
TZOFFSETTO:+1000
TZNAME:AEST
DTSTART:20150404T160000
END:STANDARD
BEGIN:DAYLIGHT
TZOFFSETFROM:+1000
TZOFFSETTO:+1100
TZNAME:AEDT
DTSTART:20151003T160000
END:DAYLIGHT
BEGIN:STANDARD
TZOFFSETFROM:+1100
TZOFFSETTO:+1000
TZNAME:AEST
DTSTART:20160402T160000
END:STANDARD
BEGIN:DAYLIGHT
TZOFFSETFROM:+1000
TZOFFSETTO:+1100
TZNAME:AEDT
DTSTART:20161001T160000
END:DAYLIGHT
END:VTIMEZONE
BEGIN:VEVENT
DTSTART;VALUE=DATE:20160201
DTEND;VALUE=DATE:20160202
DTSTAMP:20260423T105241
CREATED:20151126T172845Z
LAST-MODIFIED:20151126T172845Z
UID:522-1454284800-1454371199@camberwellsharks.com.au
SUMMARY:Inter-club Transfers Open
DESCRIPTION:
URL:https://camberwellsharks.com.au/event/inter-club-transfers-open/
END:VEVENT
BEGIN:VEVENT
DTSTART;VALUE=DATE:20160104
DTEND;VALUE=DATE:20160105
DTSTAMP:20260423T105241
CREATED:20151126T172659Z
LAST-MODIFIED:20151126T172659Z
UID:520-1451865600-1451951999@camberwellsharks.com.au
SUMMARY:Returning Player Registrations Open
DESCRIPTION:
URL:https://camberwellsharks.com.au/event/returning-player-registrations-open/
LOCATION:Online
END:VEVENT
BEGIN:VEVENT
DTSTART;TZID=Australia/Melbourne:20151118T190000
DTEND;TZID=Australia/Melbourne:20151118T210000
DTSTAMP:20260423T105241
CREATED:20150904T154559Z
LAST-MODIFIED:20150904T155212Z
UID:373-1447873200-1447880400@camberwellsharks.com.au
SUMMARY:YJFL AGM
DESCRIPTION:Check exact times closer to the date.
URL:https://camberwellsharks.com.au/event/yjfl-agm/
LOCATION:YJFL\, Bulleen Park Oval no. 1\, Bulleen Road\, Bulleen\, VIC\, 3105\, Australia
CATEGORIES:League
END:VEVENT
BEGIN:VEVENT
DTSTART;TZID=Australia/Melbourne:20151116T190000
DTEND;TZID=Australia/Melbourne:20151116T210000
DTSTAMP:20260423T105241
CREATED:20150904T154105Z
LAST-MODIFIED:20150904T155051Z
UID:370-1447700400-1447707600@camberwellsharks.com.au
SUMMARY:Sharks AGM
DESCRIPTION:
URL:https://camberwellsharks.com.au/event/sharks-agm/
LOCATION:Sharks Clubrooms\, Lynden Park\, Lynden St\, Camberwell\, VIC\, 3124\, Australia
CATEGORIES:Committee
END:VEVENT
END:VCALENDAR